BEGIN:VCALENDAR
VERSION:2.0
PRODID:-//Orthodox Union - ECPv6.15.20//NONSGML v1.0//EN
CALSCALE:GREGORIAN
METHOD:PUBLISH
X-WR-CALNAME:Orthodox Union
X-ORIGINAL-URL:https://www.ou.org
X-WR-CALDESC:Events for Orthodox Union
REFRESH-INTERVAL;VALUE=DURATION:PT1H
X-Robots-Tag:noindex
X-PUBLISHED-TTL:PT1H
BEGIN:VTIMEZONE
TZID:America/Halifax
BEGIN:DAYLIGHT
TZOFFSETFROM:-0400
TZOFFSETTO:-0300
TZNAME:ADT
DTSTART:20190310T060000
END:DAYLIGHT
BEGIN:STANDARD
TZOFFSETFROM:-0300
TZOFFSETTO:-0400
TZNAME:AST
DTSTART:20191103T050000
END:STANDARD
BEGIN:DAYLIGHT
TZOFFSETFROM:-0400
TZOFFSETTO:-0300
TZNAME:ADT
DTSTART:20200308T060000
END:DAYLIGHT
BEGIN:STANDARD
TZOFFSETFROM:-0300
TZOFFSETTO:-0400
TZNAME:AST
DTSTART:20201101T050000
END:STANDARD
BEGIN:DAYLIGHT
TZOFFSETFROM:-0400
TZOFFSETTO:-0300
TZNAME:ADT
DTSTART:20210314T060000
END:DAYLIGHT
BEGIN:STANDARD
TZOFFSETFROM:-0300
TZOFFSETTO:-0400
TZNAME:AST
DTSTART:20211107T050000
END:STANDARD
END:VTIMEZONE
BEGIN:VTIMEZONE
TZID:America/New_York
BEGIN:DAYLIGHT
TZOFFSETFROM:-0500
TZOFFSETTO:-0400
TZNAME:EDT
DTSTART:20190310T070000
END:DAYLIGHT
BEGIN:STANDARD
TZOFFSETFROM:-0400
TZOFFSETTO:-0500
TZNAME:EST
DTSTART:20191103T060000
END:STANDARD
BEGIN:DAYLIGHT
TZOFFSETFROM:-0500
TZOFFSETTO:-0400
TZNAME:EDT
DTSTART:20200308T070000
END:DAYLIGHT
BEGIN:STANDARD
TZOFFSETFROM:-0400
TZOFFSETTO:-0500
TZNAME:EST
DTSTART:20201101T060000
END:STANDARD
BEGIN:DAYLIGHT
TZOFFSETFROM:-0500
TZOFFSETTO:-0400
TZNAME:EDT
DTSTART:20210314T070000
END:DAYLIGHT
BEGIN:STANDARD
TZOFFSETFROM:-0400
TZOFFSETTO:-0500
TZNAME:EST
DTSTART:20211107T060000
END:STANDARD
END:VTIMEZONE
BEGIN:VEVENT
DTSTART;TZID=America/Halifax:20200503T130000
DTEND;TZID=America/Halifax:20200503T130000
DTSTAMP:20260419T232905
CREATED:20200503T022110Z
LAST-MODIFIED:20200503T022110Z
UID:49008-1588510800-1588510800@www.ou.org
SUMMARY:Semichas Chaver International Siyum
DESCRIPTION:Join the Semichas Chaver Program’s international siyum\, as 1\,500 participants are recognized for their accomplishments this zman. With special Divrei Chizuk from HaGaon Rav Herschel Schachter and HaGaon Rishon LeZion Rav Shlomo Amar. \nWatch
URL:https://www.ou.org/event/semichas-chaver-international-siyum/
LOCATION:On-Line\, 11 Broadway\, NY\, NY\, 10004\, United States
ORGANIZER;CN="Hannah Farkas":MAILTO:hannahf@ou.org 
END:VEVENT
BEGIN:VEVENT
DTSTART;TZID=America/Halifax:20200504T133000
DTEND;TZID=America/Halifax:20200504T140000
DTSTAMP:20260419T232905
CREATED:20200429T014408Z
LAST-MODIFIED:20200911T103027Z
UID:48837-1588599000-1588600800@www.ou.org
SUMMARY:Daily Dvar - Interpreting the Message: Reconciling Ruth and Shoftim
DESCRIPTION:Join the OU’s Daily Dvar as they explore ‘Interpreting the Message: Reconciling Ruth and Shoftim’ with Rebbetzin Rebecca Belizon. This program is being held in conjunction with the Torat Imecha program. \nRebecca Belizon is the Rebbetzin of the YI of Fairlawn\, received her Masters in Jewish Education from Azrieli and has taught at Ateres Bais Yaakov in Monsey\, Nefesh Academy\, SKA and Shaalvim for Women. \nWatch
URL:https://www.ou.org/event/daily-dvar-interpreting-the-message-reconciling-ruth-and-shoftim/
CATEGORIES:Community Engagement
END:VEVENT
BEGIN:VEVENT
DTSTART;TZID=America/Halifax:20200504T200000
DTEND;TZID=America/Halifax:20200504T210000
DTSTAMP:20260419T232905
CREATED:20200429T002645Z
LAST-MODIFIED:20200908T165556Z
UID:48827-1588622400-1588626000@www.ou.org
SUMMARY:Anger Management During Trying Times
DESCRIPTION:Join Rabbi Dr. Mordechai Schiffman as he discusses ‘Anger Management During Trying Times’ on Monday\, May 4th at 8:00 PM EDT in conjunction with the OU’s Calm Amid Corona Mental Health Series. \nClick here to watch live. \nRabbi Dr. Mordechai Schiffman is an assistant professor of Jewish Education at YU’s Azrieli Graduate School of Jewish Education\, the assistant rabbi at Kingsway Jewish Center in Brooklyn\, NY\, and a licensed psychologist specializing in Cognitive Behavior Therapy for anxiety and anger. His weekly dvar torah\, which combines ideas from the parsha with concepts from the field of Psychology\, is published in The Jewish Press and on his website www.PsychedForTorah.com.
URL:https://www.ou.org/event/anger-management-during-trying-times/
CATEGORIES:Community Engagement
ORGANIZER;CN="Hannah Farkas":MAILTO:hannahf@ou.org 
END:VEVENT
BEGIN:VEVENT
DTSTART;TZID=America/Halifax:20200505T133000
DTEND;TZID=America/Halifax:20200505T140000
DTSTAMP:20260419T232905
CREATED:20200429T015104Z
LAST-MODIFIED:20200911T103027Z
UID:48839-1588685400-1588687200@www.ou.org
SUMMARY:Daily Dvar: Av HaRachanim\, the Crusades and the Creation of Ashkenazic Identity
DESCRIPTION:Join Dr. Henry Abramson as he discusses ‘Av HaRachamim\, The Crusades\, and the Creation of Ashkenazic Identity’ as part of the daily dvar. \nDr. Henry Abramson – Av HaRachamim\, The Crusades\, and the Creation of Ashkenazic Identity\nDr. Abramson\, PhD\, serves as a dean of Touro College in Brooklyn\, NY. He is the author of many scholarly works and the Jewish History in Daf Yomi podcast on AllDaf.org. \nWatch
URL:https://www.ou.org/event/daily-dvar-av-harachanim-the-crusades-and-the-creation-of-ashkenazic-identity/
CATEGORIES:Community Engagement
ORGANIZER;CN="Hannah Farkas":MAILTO:hannahf@ou.org 
END:VEVENT
BEGIN:VEVENT
DTSTART;TZID=America/Halifax:20200505T193000
DTEND;TZID=America/Halifax:20200505T213000
DTSTAMP:20260419T232905
CREATED:20200503T022640Z
LAST-MODIFIED:20200909T045406Z
UID:49010-1588707000-1588714200@www.ou.org
SUMMARY:Global Emtza Family Trivia Night
DESCRIPTION:Family trivia night is a wonderful program to bring together middle schoolers and their parents for a fun-filled night at home. Everyone will be challenged with their knowledge of some great movies most are sure to know. Amazon gift cards will be distributed at the end of the program to our lucky winners. \nWatch
URL:https://www.ou.org/event/global-emtza-family-trivia-night/
CATEGORIES:NCSY
END:VEVENT
BEGIN:VEVENT
DTSTART;TZID=America/Halifax:20200506T133000
DTEND;TZID=America/Halifax:20200506T140000
DTSTAMP:20260419T232905
CREATED:20200429T015606Z
LAST-MODIFIED:20200911T103027Z
UID:48841-1588771800-1588773600@www.ou.org
SUMMARY:Daily Dvar: Perek On A Pod -Chapter 1: History and Context
DESCRIPTION:Join the OU’s Daily Dvar as they explore “Perek on a Pod – Chapter 1: History and Context” with Rabbi Gershon Albert. \nRabbi Albert is the senior Rabbi of Beth Jacob Congregation in Oakland. Originally from Montreal\, he received his rabbinical ordination from RIETS and is the regional vice president of the Rabbinical Council of America\, and halachic advisor to the Oakland Hebrew Day School. \nWatch
URL:https://www.ou.org/event/daily-dvar-perek-on-a-pod-chapter-1-history-and-context/
CATEGORIES:Community Engagement
END:VEVENT
BEGIN:VEVENT
DTSTART;TZID=America/Halifax:20200507T133000
DTEND;TZID=America/Halifax:20200507T140000
DTSTAMP:20260419T232905
CREATED:20200429T013741Z
LAST-MODIFIED:20200911T103027Z
UID:48834-1588858200-1588860000@www.ou.org
SUMMARY:Daily Dvar - Emor and Sefiras HaOmer: A Travel Through Time
DESCRIPTION:Join the OU’s Daily Dvar as they explore ‘Emor and Sefiras HaOmer: A Travel Through Time’ with Rabbi Daniel Rosenfelt. \nRabbi Rosenfelt leads the Fleetwood Synagogue in Southwestern Westchester. He also serves on the Junior High School Faculty of Yeshiva of Central Queens (YCQ). \nWatch
URL:https://www.ou.org/event/daily-dvar-emor-and-sefiras-haomer-a-travel-through-time/
CATEGORIES:Community Engagement
ORGANIZER;CN="Hannah Farkas":MAILTO:hannahf@ou.org 
END:VEVENT
BEGIN:VEVENT
DTSTART;TZID=America/New_York:20200507T193000
DTEND;TZID=America/New_York:20200507T210000
DTSTAMP:20260419T232905
CREATED:20200429T002015Z
LAST-MODIFIED:20200908T165558Z
UID:48823-1588879800-1588885200@www.ou.org
SUMMARY:Anxiety Through the Lifespan
DESCRIPTION:Join Dr. Norman Blumenthal as he discusses ‘Anxiety through the Lifespan on Thursday\, May 7th at 7:30 PM EDT in conjunction with the OU’s Calm Amid Corona Mental Health Series and the Mental Health Symposium of the Montreal Jewish Community. \nClick here to watch live at  or by phone at 855-531-0118 \nDr. Norman Blumenthal is the education director of the Bella and Harry Wexner Kollel Elyon and Semikha Honors Program at RIETS at Yeshiva University. A licensed clinical psychologist with a private practice in Lawrence\, NY\, Dr. Blumenthal is Zachter Family Chair in Trauma and Crisis Counseling and Director of OHEL Miriam Center for Trauma\, Bereavement and Crisis Response.
URL:https://www.ou.org/event/anxiety-through-the-lifespan/
CATEGORIES:Community Engagement
ORGANIZER;CN="Hannah Farkas":MAILTO:hannahf@ou.org 
END:VEVENT
END:VCALENDAR