BEGIN:VCALENDAR
VERSION:2.0
PRODID:-//Orthodox Union - ECPv6.15.20//NONSGML v1.0//EN
CALSCALE:GREGORIAN
METHOD:PUBLISH
X-WR-CALNAME:Orthodox Union
X-ORIGINAL-URL:https://www.ou.org
X-WR-CALDESC:Events for Orthodox Union
REFRESH-INTERVAL;VALUE=DURATION:PT1H
X-Robots-Tag:noindex
X-PUBLISHED-TTL:PT1H
BEGIN:VTIMEZONE
TZID:America/New_York
BEGIN:DAYLIGHT
TZOFFSETFROM:-0500
TZOFFSETTO:-0400
TZNAME:EDT
DTSTART:20220313T070000
END:DAYLIGHT
BEGIN:STANDARD
TZOFFSETFROM:-0400
TZOFFSETTO:-0500
TZNAME:EST
DTSTART:20221106T060000
END:STANDARD
BEGIN:DAYLIGHT
TZOFFSETFROM:-0500
TZOFFSETTO:-0400
TZNAME:EDT
DTSTART:20230312T070000
END:DAYLIGHT
BEGIN:STANDARD
TZOFFSETFROM:-0400
TZOFFSETTO:-0500
TZNAME:EST
DTSTART:20231105T060000
END:STANDARD
BEGIN:DAYLIGHT
TZOFFSETFROM:-0500
TZOFFSETTO:-0400
TZNAME:EDT
DTSTART:20240310T070000
END:DAYLIGHT
BEGIN:STANDARD
TZOFFSETFROM:-0400
TZOFFSETTO:-0500
TZNAME:EST
DTSTART:20241103T060000
END:STANDARD
END:VTIMEZONE
BEGIN:VTIMEZONE
TZID:Europe/Helsinki
BEGIN:DAYLIGHT
TZOFFSETFROM:+0200
TZOFFSETTO:+0300
TZNAME:EEST
DTSTART:20220327T010000
END:DAYLIGHT
BEGIN:STANDARD
TZOFFSETFROM:+0300
TZOFFSETTO:+0200
TZNAME:EET
DTSTART:20221030T010000
END:STANDARD
BEGIN:DAYLIGHT
TZOFFSETFROM:+0200
TZOFFSETTO:+0300
TZNAME:EEST
DTSTART:20230326T010000
END:DAYLIGHT
BEGIN:STANDARD
TZOFFSETFROM:+0300
TZOFFSETTO:+0200
TZNAME:EET
DTSTART:20231029T010000
END:STANDARD
BEGIN:DAYLIGHT
TZOFFSETFROM:+0200
TZOFFSETTO:+0300
TZNAME:EEST
DTSTART:20240331T010000
END:DAYLIGHT
BEGIN:STANDARD
TZOFFSETFROM:+0300
TZOFFSETTO:+0200
TZNAME:EET
DTSTART:20241027T010000
END:STANDARD
END:VTIMEZONE
BEGIN:VEVENT
DTSTART;TZID=America/New_York:20230905T120000
DTEND;TZID=America/New_York:20230905T130000
DTSTAMP:20260423T162550
CREATED:20230822T175622Z
LAST-MODIFIED:20230822T202531Z
UID:67230-1693915200-1693918800@www.ou.org
SUMMARY:SPIRIT:  Forever Growing.... into a new year
DESCRIPTION:Forever Growing…. into a new year \n\nSaying yes to new things expands us.\nCuriosity and love of learning keep us vibrant.\nTaking Risks grows our adventurous and fun-loving spirit\nOpening ourselves to new experiences and opportunities\n\nPresented by Harriet Cabelly\, LCSW\, is a therapist\, positive psychology coach\, author\, and speaker.  She brings her 25-plus years of experience as a licensed clinical social worker to her private practice and is an expert in grief and adversity.  She journeys with people going through a loss of any kind such as the death of a loved one\, divorce\, illness\, disability\, and any critical life-changing circumstance\, as they cope and grow\, finding renewed meaning and purpose in their lives once again.  \nClick here to register for the Zoom link for online participation and/or to receive the recording following the program \nFor more information: \nwww.rebuildlifenow.com\nharriet@rebuildlifenow.com \n  \nCORPORATE SPONSORS:   \nMEMORY MATTERS — https://renayudkowsky.com/signature-course/ \nCAPITIL REAL ESTATE — https://capitil.com/ \nMEDICARE INSURANCE SPECIALIST — https://www.65andready.com/ \nFORSPANKLEAR\, LLP — https://www.forspanklear.com/ \nWINSTON WEALTH ADVISORS — https://www.winstonwealthadvisors.com/ou-spirit \nSCHWARTZ BROTHERS JEFFER/SINAI CHAPEL/PARKSIDE MEMORIAL CHAPELS — https://www.dignitymemorial.com/funeral-homes/forest-hills-ny/schwartz-brothers-jeffer-memorial-chapels/4131 \nCITIZENS BANK — https://lo.citizensbank.com/nj/woodcliff-lake/david-siegel \n____________________________________________________________________ \nWe have created a new SPIRIT website with archives and upcoming programs! Now you can watch all of the SPIRIT presentations geared toward retirees- on subjects such as history to exercise to mental health\, all in one place!  \nCLICK HERE to enjoy past programs on-demand at your convenience!    \n\nThe information provided by the OU SPIRIT program is for informational purposes only and should not be construed as advice on any legal/medical/nutritional/mental health/ financial/halachic or other subject matter.  You should not act or refrain from acting on the basis of the information you learn during a SPIRIT program without seeking legal/medical/nutritional/mental health/financial/Rabbinic or other appropriate professional advice. \n\nPartnering Synagogues: \nAnshei Chesed Congregation\, Boynton Beach (FL)\nAnshei Emuna Congregation\, Delray Beach (FL)\nBeth David Synagogue\, West Hartford (CT) \nBialystoker Synagogue\, New York (NY)\nB’nai Israel-Ohev Zedek\, Philadelphia (PA) \nCongregation Agudath Sholom\, Stamford (CT)\nCongregation Ahavas Sholom\, Columbus (OH)\n Congregation Aitz Chaim\, West Palm Beach (FL)\nCongregation Anshe Sfard\, New Orleans (LA) \nCongregation Anshe Sfard Kehillat Torah\, Glendale (WI)\nCongregation Beth Hamedrosh\, Wynnewood (PA)\nCongregation Beth Aaron\, Teaneck (NJ)\nCongregation Beth Ora\, Montreal (QUE)\nCongregation Beth Sholom\, Providence (RI) \nCongregation Bnai Yeshurun\, Teaneck (NJ)\nCongregation Etz Chaim of Kew Gardens Hills (NY) \nCongregation Kehilath Jeshurun\, New York (NY)\nCongregation Machane Chodosh\, Forest Hills\, NY\nCongregation Ohav Zedek\, Wilkes-Barre (PA) \nCongregation Tiferet Israel\, Austin (TX)\nCongregation Torah Ohr\, Boca Raton (FL) \nCongregation Zvi Jacob\, Utica (NY)\nDarchei Noam\, Minneapolis (MN) \nEast Denver Orthodox Synagogue (EDOS)\, Denver (CO)\nFleetwood Synagogue\, Fleetwood (NY) \nJewish Center of Atlantic Beach (NY)\nKehillat New Hempstead (NY) \nKehillat Shaarei Torah of Toronto (ONT)\nKeneseth Beth Israel\, Richmond (VA) \nNer Tamid Greenspring Valley Synagogue\, Baltimore (MD)\nSuburban Orthodox Congregation Toras Chaim\, Baltimore (MD)\nSuburban Torah\, Livingston (NJ) \nUnited Orthodox Synagogues\, Houston (TX)\nYoung Israel of Bal Harbour\, Surfside (FL)\n Young Israel of Brookline (MA)\nYoung Israel of Deerfield Beach (FL) \nYoung Israel of East Brunswick (NJ)\nYoung Israel of Elkins Park (PA) \nYoung Israel of Fort Lee (NJ)\nYoung Israel of Hillcrest (NY) \nYoung Israel of Hollywood/Ft. Lauderdale (FL)\nYoung Israel of Kew Gardens Hills (NY) \nYoung Israel of New Hyde Park (NY)\nYoung Israel of Plainview (NY)\n Young Israel of Queens Valley (NY)\nYoung Israel of Southfield (MI)\n Young Israel of Stamford (CT)\nYoung Israel of West Hartford (CT)\nYoung Israel of West Hempstead (NY) \n 
URL:https://www.ou.org/event/spirit-forever-growing-into-a-new-year/
END:VEVENT
BEGIN:VEVENT
DTSTART;TZID=America/New_York:20230908T190000
DTEND;TZID=America/New_York:20230909T210000
DTSTAMP:20260423T162550
CREATED:20230905T205559Z
LAST-MODIFIED:20230905T205608Z
UID:67489-1694199600-1694293200@www.ou.org
SUMMARY:Rabbi Moshe Hauer at Congregation Beth Sholom in Lawrence\, NY
DESCRIPTION:
URL:https://www.ou.org/event/rabbi-moshe-hauer-at-congregation-beth-sholom-in-lawrence-ny/
LOCATION:Congregation Beth Sholom\, 390 Broadway\, Lawrence\, NY\, 11559
END:VEVENT
BEGIN:VEVENT
DTSTART;TZID=America/New_York:20230911T193000
DTEND;TZID=America/New_York:20230911T203000
DTSTAMP:20260423T162550
CREATED:20230822T182701Z
LAST-MODIFIED:20230906T011336Z
UID:67236-1694460600-1694464200@www.ou.org
SUMMARY:SPIRIT:  Parkinson's Support Group
DESCRIPTION:Monday evening\, 9/11/2023\, 7:30 pm EDT on Zoom \n\nAn update on the Parkinson’s research landscape\nCurrent symptomatic treatments and what lies ahead\nThe road to a cure\nBiomarkers and clinical trial participation\n\nPresentation by Fayga Brisman Taylor\, Senior Associate Director of Advancement\, The Michael J. Fox Foundation \nRegister here to receive the Zoom link for participation: \nPortions of this session will not be recorded. \nThe session is for both patients with Parkinson’s and caregivers — breakout groups are not planned for this session.  A Q & A will follow the presentation. \n  \nThe information provided by the OU SPIRIT program is for informational purposes only and should not be construed as advice on any legal/medical/nutritional/mental health/ financial/halachic or other subject matter.  You should not act or refrain from acting on the basis of the information you learn during a SPIRIT program without seeking legal/medical/nutritional/mental health/financial/Rabbinic or other appropriate professional advice.
URL:https://www.ou.org/event/spirit-parkinsons-support-group-2/
END:VEVENT
BEGIN:VEVENT
DTSTART;TZID=America/New_York:20230911T200000
DTEND;TZID=America/New_York:20230911T220000
DTSTAMP:20260423T162550
CREATED:20230905T211805Z
LAST-MODIFIED:20230905T211813Z
UID:67502-1694462400-1694469600@www.ou.org
SUMMARY:Singles Sensitivity Event
DESCRIPTION:
URL:https://www.ou.org/event/singles-sensitivity-event/
LOCATION:Boca Raton Synagogue\, Boca Raton\, FL
END:VEVENT
BEGIN:VEVENT
DTSTART;TZID=Europe/Helsinki:20230912T093000
DTEND;TZID=Europe/Helsinki:20230912T160000
DTSTAMP:20260423T162550
CREATED:20230906T152852Z
LAST-MODIFIED:20230906T153355Z
UID:67525-1694511000-1694534400@www.ou.org
SUMMARY:Torah Yerushalayim - Israel
DESCRIPTION:
URL:https://www.ou.org/event/torah-yerushalayim/
LOCATION:Kehilat Nitzanim\, Israel
CATEGORIES:Torah
END:VEVENT
BEGIN:VEVENT
DTSTART;TZID=America/New_York:20230912T120000
DTEND;TZID=America/New_York:20230912T130000
DTSTAMP:20260423T162550
CREATED:20230830T170028Z
LAST-MODIFIED:20230830T170328Z
UID:67419-1694520000-1694523600@www.ou.org
SUMMARY:SPIRIT:   “Planning for Your Future – If Not Now\, When?”
DESCRIPTION:  \n “Planning for Your Future – If Not Now\, When?”   \nSome conversations are hard to have but are\, nonetheless\,  very important.  This presentation will help you ponder your healthcare future and enable you to empower loved ones with information they need to know about your wishes. Then\, and only then\, will they be able to speak on your behalf if you can no longer speak for yourself. \nWe are about to celebrate Rosh Hashanah 5784\, and IYH it should be a year of good health\, happiness\, and peace. May we all be sealed in the Book of Life. Yet\, the fragility of life encourages us to consider how to do better for ourselves and our families by planning what we can plan. So\, let’s take steps to get our house in order by becoming familiar with an easy-to-understand resource called the Five Wishes. \nPresented by Toby Weiss\, MS\, OD \nToby Weiss holds an MS in HRM and OD\, and a certificate in Biomedical Ethics. She is AVP of Cultural Diversity at MJHS Hospice and improves equitable access to care while embracing the needs of all who are seriously ill.  She educates on the importance of advanced care planning and earlier access to healthcare resources in alignment with a person’s lived experiences.  With a focus on Person-Centered\, Trauma-Informed care Toby has done in-depth work to support the needs of populations with a history of trauma. She was selected to serve on the national CMS Health Equity Expert panel that developed Health Equity measures for Hospice and Homecare Quality Reporting.  Toby established the MJHS “Halachic Pathway” for Orthodox Jewish patients and has become a replicable model for other cultural and faith-based communities. Her team created and rolled out a digital toolkit aimed at caring for Holocaust Survivors at the end of life\, which won the AJAS National Jewish Programming award in April 2022. \nClick here to register for the Zoom link for online participation and/or to receive the recording following the program \n  \nCORPORATE SPONSORS:   \nMEMORY MATTERS — https://renayudkowsky.com/signature-course/ \nCAPITIL REAL ESTATE — https://capitil.com/ \nMEDICARE INSURANCE SPECIALIST — https://www.65andready.com/ \nFORSPANKLEAR\, LLP — https://www.forspanklear.com/ \nWINSTON WEALTH ADVISORS — https://www.winstonwealthadvisors.com/ou-spirit \nSCHWARTZ BROTHERS JEFFER/SINAI CHAPEL/PARKSIDE MEMORIAL CHAPELS — https://www.dignitymemorial.com/funeral-homes/forest-hills-ny/schwartz-brothers-jeffer-memorial-chapels/4131 \nCITIZENS BANK — https://lo.citizensbank.com/nj/woodcliff-lake/david-siegel \n____________________________________________________________________ \nWe have created a new SPIRIT website with archives and upcoming programs! Now you can watch all of the SPIRIT presentations geared toward retirees- on subjects such as history to exercise to mental health\, all in one place!  \nCLICK HERE to enjoy past programs on-demand at your convenience!    \n\nThe information provided by the OU SPIRIT program is for informational purposes only and should not be construed as advice on any legal/medical/nutritional/mental health/ financial/halachic or other subject matter.  You should not act or refrain from acting on the basis of the information you learn during a SPIRIT program without seeking legal/medical/nutritional/mental health/financial/Rabbinic or other appropriate professional advice. \n\nPartnering Synagogues: \nAnshei Chesed Congregation\, Boynton Beach (FL)\nAnshei Emuna Congregation\, Delray Beach (FL)\nBeth David Synagogue\, West Hartford (CT) \nBialystoker Synagogue\, New York (NY)\nB’nai Israel-Ohev Zedek\, Philadelphia (PA) \nCongregation Agudath Sholom\, Stamford (CT)\nCongregation Ahavas Sholom\, Columbus (OH)\n Congregation Aitz Chaim\, West Palm Beach (FL)\nCongregation Anshe Sfard\, New Orleans (LA) \nCongregation Anshe Sfard Kehillat Torah\, Glendale (WI)\nCongregation Beth Hamedrosh\, Wynnewood (PA)\nCongregation Beth Aaron\, Teaneck (NJ)\nCongregation Beth Ora\, Montreal (QUE)\nCongregation Beth Sholom\, Providence (RI) \nCongregation Bnai Yeshurun\, Teaneck (NJ)\nCongregation Etz Chaim of Kew Gardens Hills (NY) \nCongregation Kehilath Jeshurun\, New York (NY)\nCongregation Machane Chodosh\, Forest Hills\, NY\nCongregation Ohav Zedek\, Wilkes-Barre (PA) \nCongregation Tiferet Israel\, Austin (TX)\nCongregation Torah Ohr\, Boca Raton (FL) \nCongregation Zvi Jacob\, Utica (NY)\nDarchei Noam\, Minneapolis (MN) \nEast Denver Orthodox Synagogue (EDOS)\, Denver (CO)\nFleetwood Synagogue\, Fleetwood (NY) \nJewish Center of Atlantic Beach (NY)\nKehillat New Hempstead (NY) \nKehillat Shaarei Torah of Toronto (ONT)\nKeneseth Beth Israel\, Richmond (VA) \nNer Tamid Greenspring Valley Synagogue\, Baltimore (MD)\nSuburban Orthodox Congregation Toras Chaim\, Baltimore (MD)\nSuburban Torah\, Livingston (NJ) \nUnited Orthodox Synagogues\, Houston (TX)\nYoung Israel of Bal Harbour\, Surfside (FL)\n Young Israel of Brookline (MA)\nYoung Israel of Deerfield Beach (FL) \nYoung Israel of East Brunswick (NJ)\nYoung Israel of Elkins Park (PA) \nYoung Israel of Fort Lee (NJ)\nYoung Israel of Hillcrest (NY) \nYoung Israel of Hollywood/Ft. Lauderdale (FL)\nYoung Israel of Kew Gardens Hills (NY) \nYoung Israel of New Hyde Park (NY)\nYoung Israel of Plainview (NY)\n Young Israel of Queens Valley (NY)\nYoung Israel of Southfield (MI)\n Young Israel of Stamford (CT)\nYoung Israel of West Hartford (CT)\nYoung Israel of West Hempstead (NY) \n 
URL:https://www.ou.org/event/spirit-planning-for-your-future-if-not-now-when/
END:VEVENT
BEGIN:VEVENT
DTSTART;TZID=America/New_York:20230913T200000
DTEND;TZID=America/New_York:20230913T220000
DTSTAMP:20260423T162550
CREATED:20230905T212033Z
LAST-MODIFIED:20230905T212130Z
UID:67508-1694635200-1694642400@www.ou.org
SUMMARY:Singles Sensitivity Event
DESCRIPTION:
URL:https://www.ou.org/event/singles-sensitivity-event-2/
LOCATION:Ner Tamid\, 6214 Pimlico Rd.\, Baltimore\, MD
CATEGORIES:Community Engagement
END:VEVENT
BEGIN:VEVENT
DTSTART;TZID=America/New_York:20230918T133000
DTEND;TZID=America/New_York:20230918T143000
DTSTAMP:20260423T162550
CREATED:20230905T211504Z
LAST-MODIFIED:20230905T211504Z
UID:67499-1695043800-1695047400@www.ou.org
SUMMARY:B'himatzo: Tefillah Roundtable Conversation
DESCRIPTION:
URL:https://www.ou.org/event/bhimatzo-tefillah-roundtable-conversation/
END:VEVENT
BEGIN:VEVENT
DTSTART;TZID=America/New_York:20230918T153000
DTEND;TZID=America/New_York:20230918T170000
DTSTAMP:20260423T162550
CREATED:20230905T213059Z
LAST-MODIFIED:20230905T213059Z
UID:67514-1695051000-1695056400@www.ou.org
SUMMARY:Singles Sensitivity Event - Livestream
DESCRIPTION:
URL:https://www.ou.org/event/singles-sensitivity-event-livestream/
CATEGORIES:Community Engagement
END:VEVENT
BEGIN:VEVENT
DTSTART;TZID=America/New_York:20230919T120000
DTEND;TZID=America/New_York:20230919T130000
DTSTAMP:20260423T162550
CREATED:20230907T174244Z
LAST-MODIFIED:20230918T150243Z
UID:67545-1695124800-1695128400@www.ou.org
SUMMARY:SPIRIT: From Family Feud to Relationship Rapport: Engaging over the Holidays
DESCRIPTION:From Family Feud to Relationship Rapport: Engaging over the Holidays \n\nBuilding a safe environment within our families\, friends\, and communities.\nDealing with our own triggers and those of others to diffuse conflict.\nCreating opportunities for authenticity and relationship building.\n\nPresented by Deborah Schick Laufer\, Esq. \n\n\n\n\nDeborah Schick Laufer\, Esq.  has over 30 years of experience in dispute resolution and conflict management. She serves on the Orthodox Union’s Board of Governors. She was Manager of Mediation Services for Workplace Disputes at the World Bank Group and Chief of ADR Training for the US Air Force. She is a founding member of Mediators Beyond Borders International. She has mediated\, facilitated\, and coached approximately 500 cases. Deborah received her JD from Georgetown University Law Center\, and her BA with honors from Barnard College\, Columbia University.\n\n\n\n  \nClick here to register for the Zoom link for online participation and/or to receive the recording following the program \n  \n  \nCORPORATE SPONSORS:   \nMEMORY MATTERS — https://renayudkowsky.com/signature-course/ \nCAPITIL REAL ESTATE — https://capitil.com/ \nMEDICARE INSURANCE SPECIALIST — https://www.65andready.com/ \nFORSPANKLEAR\, LLP — https://www.forspanklear.com/ \nWINSTON WEALTH ADVISORS — https://www.winstonwealthadvisors.com/ou-spirit \nSCHWARTZ BROTHERS JEFFER/SINAI CHAPEL/PARKSIDE MEMORIAL CHAPELS — https://www.dignitymemorial.com/funeral-homes/forest-hills-ny/schwartz-brothers-jeffer-memorial-chapels/4131 \nCITIZENS BANK — https://lo.citizensbank.com/nj/woodcliff-lake/david-siegel \n____________________________________________________________________ \nWe have created a new SPIRIT website with archives and upcoming programs! Now you can watch all of the SPIRIT presentations geared toward retirees- on subjects such as history to exercise to mental health\, all in one place!  \nCLICK HERE to enjoy past programs on-demand at your convenience!    \n\nThe information provided by the OU SPIRIT program is for informational purposes only and should not be construed as advice on any legal/medical/nutritional/mental health/ financial/halachic or other subject matter.  You should not act or refrain from acting on the basis of the information you learn during a SPIRIT program without seeking legal/medical/nutritional/mental health/financial/Rabbinic or other appropriate professional advice. \n\nPartnering Synagogues: \nAnshei Chesed Congregation\, Boynton Beach (FL)\nAnshei Emuna Congregation\, Delray Beach (FL)\nBeth David Synagogue\, West Hartford (CT) \nBialystoker Synagogue\, New York (NY)\nB’nai Israel-Ohev Zedek\, Philadelphia (PA) \nCongregation Agudath Sholom\, Stamford (CT)\nCongregation Ahavas Sholom\, Columbus (OH)\n Congregation Aitz Chaim\, West Palm Beach (FL)\nCongregation Anshe Sfard\, New Orleans (LA) \nCongregation Anshe Sfard Kehillat Torah\, Glendale (WI)\nCongregation Beth Hamedrosh\, Wynnewood (PA)\nCongregation Beth Aaron\, Teaneck (NJ)\nCongregation Beth Ora\, Montreal (QUE)\nCongregation Beth Sholom\, Providence (RI) \nCongregation Bnai Yeshurun\, Teaneck (NJ)\nCongregation Etz Chaim of Kew Gardens Hills (NY) \nCongregation Kehilath Jeshurun\, New York (NY)\nCongregation Machane Chodosh\, Forest Hills\, NY\nCongregation Ohav Zedek\, Wilkes-Barre (PA) \nCongregation Tiferet Israel\, Austin (TX)\nCongregation Torah Ohr\, Boca Raton (FL) \nCongregation Zvi Jacob\, Utica (NY)\nDarchei Noam\, Minneapolis (MN) \nEast Denver Orthodox Synagogue (EDOS)\, Denver (CO)\nFleetwood Synagogue\, Fleetwood (NY) \nJewish Center of Atlantic Beach (NY)\nKehillat New Hempstead (NY) \nKehillat Shaarei Torah of Toronto (ONT)\nKeneseth Beth Israel\, Richmond (VA) \nNer Tamid Greenspring Valley Synagogue\, Baltimore (MD)\nSuburban Orthodox Congregation Toras Chaim\, Baltimore (MD)\nSuburban Torah\, Livingston (NJ) \nUnited Orthodox Synagogues\, Houston (TX)\nYoung Israel of Bal Harbour\, Surfside (FL)\n Young Israel of Brookline (MA)\nYoung Israel of Deerfield Beach (FL) \nYoung Israel of East Brunswick (NJ)\nYoung Israel of Elkins Park (PA) \nYoung Israel of Fort Lee (NJ)\nYoung Israel of Hillcrest (NY) \nYoung Israel of Hollywood/Ft. Lauderdale (FL)\nYoung Israel of Kew Gardens Hills (NY) \nYoung Israel of New Hyde Park (NY)\nYoung Israel of Plainview (NY)\n Young Israel of Queens Valley (NY)\nYoung Israel of Southfield (MI)\n Young Israel of Stamford (CT)\nYoung Israel of West Hartford (CT)\nYoung Israel of West Hempstead (NY) \nOU Privacy Policy \n 
URL:https://www.ou.org/event/spirit-from-family-feud-to-relationship-rapport-engaging-over-the-holidays/
END:VEVENT
BEGIN:VEVENT
DTSTART;TZID=Europe/Helsinki:20230920T180000
DTEND;TZID=Europe/Helsinki:20230920T220000
DTSTAMP:20260423T162550
CREATED:20230906T153134Z
LAST-MODIFIED:20230906T153252Z
UID:67531-1695232800-1695247200@www.ou.org
SUMMARY:Torah Modiin - Israel
DESCRIPTION:
URL:https://www.ou.org/event/torah-modiin/
LOCATION:Kehilat Shaarei Yonah Menachem\, Israel
CATEGORIES:Torah
END:VEVENT
END:VCALENDAR