BEGIN:VCALENDAR
VERSION:2.0
PRODID:-//Orthodox Union - ECPv6.15.20//NONSGML v1.0//EN
CALSCALE:GREGORIAN
METHOD:PUBLISH
X-ORIGINAL-URL:https://www.ou.org
X-WR-CALDESC:Events for Orthodox Union
REFRESH-INTERVAL;VALUE=DURATION:PT1H
X-Robots-Tag:noindex
X-PUBLISHED-TTL:PT1H
BEGIN:VTIMEZONE
TZID:America/New_York
BEGIN:DAYLIGHT
TZOFFSETFROM:-0500
TZOFFSETTO:-0400
TZNAME:EDT
DTSTART:20220313T070000
END:DAYLIGHT
BEGIN:STANDARD
TZOFFSETFROM:-0400
TZOFFSETTO:-0500
TZNAME:EST
DTSTART:20221106T060000
END:STANDARD
BEGIN:DAYLIGHT
TZOFFSETFROM:-0500
TZOFFSETTO:-0400
TZNAME:EDT
DTSTART:20230312T070000
END:DAYLIGHT
BEGIN:STANDARD
TZOFFSETFROM:-0400
TZOFFSETTO:-0500
TZNAME:EST
DTSTART:20231105T060000
END:STANDARD
BEGIN:DAYLIGHT
TZOFFSETFROM:-0500
TZOFFSETTO:-0400
TZNAME:EDT
DTSTART:20240310T070000
END:DAYLIGHT
BEGIN:STANDARD
TZOFFSETFROM:-0400
TZOFFSETTO:-0500
TZNAME:EST
DTSTART:20241103T060000
END:STANDARD
END:VTIMEZONE
BEGIN:VEVENT
DTSTART;TZID=America/New_York:20230503T110000
DTEND;TZID=America/New_York:20230503T120000
DTSTAMP:20260423T215724
CREATED:20230424T140502Z
LAST-MODIFIED:20230503T152947Z
UID:66023-1683111600-1683115200@www.ou.org
SUMMARY:SPIRIT: The Awesomeness of Lashon HaKodesh
DESCRIPTION:The Awesomeness of Lashon HaKodesh (The Holy Language) \n\nWhen was Lashon Hakodesh created?\nThe Power of Lashon Hakodesh\nHow does it apply to us today?\n\nPresented by: Tamar Nusbaum\, Director\, Ani Tefillah \nCLICK HERE to register for the Zoom link for live participation and/or to receive the recording \n__________________________________________________________________________________________________________________________________ \nSPIRIT CORPORATE SPONSORS: \nMEMORY MATTERS — https://renayudkowsky.com/signature-course/ \nCAPITIL REAL ESTATE — https://capitil.com/ \nMEDICARE INSURANCE SPECIALIST — https://www.65andready.com/ \nFORSPANKLEAR\, LLP — https://www.forspanklear.com/ \nWINSTON WEALTH ADVISORS — https://www.winstonwealthadvisors.com/ou-spirit \nSCHWARTZ BROTHERS JEFFER/SINAI CHAPEL/PARKSIDE MEMORIAL CHAPELS — https://www.dignitymemorial.com/funeral-homes/forest-hills-ny/schwartz-brothers-jeffer-memorial-chapels/4131 \n___________________________________________________________________________________________________________________________ \nWe have created a new SPIRIT website with archives and upcoming programs! Now you can watch all of the SPIRIT presentations geared toward retirees- on subjects such as history to exercise to mental health\, all in one place!  \nCLICK HERE to enjoy past programs on-demand at your convenience! \n\nThe information provided by the OU SPIRIT program is for informational purposes only and should not be construed as advice on any legal/medical/nutritional/mental health/ financial/halachic or other subject matter.  You should not act or refrain from acting on the basis of the information you learn during a SPIRIT program without seeking legal/medical/nutritional/mental health/financial/Rabbinic or other appropriate professional advice. \n\nPartnering Synagogues: \nAnshei Chesed Congregation\, Boynton Beach (FL)\nAnshei Emuna Congregation\, Delray Beach (FL)\nBeth David Synagogue\, West Hartford (CT) \nBialystoker Synagogue\, New York (NY)\nB’nai Israel-Ohev Zedek\, Philadelphia (PA) \nCongregation Agudath Sholom\, Stamford (CT)\nCongregation Ahavas Sholom\, Columbus (OH)\n Congregation Aitz Chaim\, West Palm Beach (FL)\nCongregation Anshe Sfard\, New Orleans (LA) \nCongregation Anshe Sfard Kehillat Torah\, Glendale (WI)\nCongregation Beth Hamedrosh\, Wynnewood (PA)\nCongregation Beth Aaron\, Teaneck (NJ)\nCongregation Beth Ora\, Montreal (QUE)\nCongregation Beth Sholom\, Providence (RI) \nCongregation Bnai Yeshurun\, Teaneck (NJ)\nCongregation Etz Chaim of Kew Gardens Hills (NY) \nCongregation Kehilath Jeshurun\, New York (NY)\nCongregation Machane Chodosh\, Forest Hills\, NY\nCongregation Ohav Zedek\, Wilkes-Barre (PA) \nCongregation Tiferet Israel\, Austin (TX)\nCongregation Torah Ohr\, Boca Raton (FL) \nCongregation Zvi Jacob\, Utica (NY)\nDarchei Noam\, Minneapolis (MN) \nEast Denver Orthodox Synagogue (EDOS)\, Denver (CO)\nFleetwood Synagogue\, Fleetwood (NY) \nJewish Center of Atlantic Beach (NY)\nKehillat New Hempstead (NY) \nKehillat Shaarei Torah of Toronto (ONT)\nKeneseth Beth Israel\, Richmond (VA) \nNer Tamid Greenspring Valley Synagogue\, Baltimore (MD)\nSuburban Orthodox Congregation Toras Chaim\, Baltimore (MD)\nSuburban Torah\, Livingston (NJ) \nUnited Orthodox Synagogues\, Houston (TX)\nYoung Israel of Bal Harbour\, Surfside (FL)\n Young Israel of Brookline (MA)\nYoung Israel of Deerfield Beach (FL) \nYoung Israel of East Brunswick (NJ)\nYoung Israel of Elkins Park (PA) \nYoung Israel of Fort Lee (NJ)\nYoung Israel of Hillcrest (NY) \nYoung Israel of Hollywood/Ft. Lauderdale (FL)\nYoung Israel of Kew Gardens Hills (NY) \nYoung Israel of New Hyde Park (NY)\nYoung Israel of Plainview (NY)\n Young Israel of Queens Valley (NY)\nYoung Israel of Southfield (MI)\n Young Israel of Stamford (CT)\nYoung Israel of West Hartford (CT)\nYoung Israel of West Hempstead (NY) \n\nOU Privacy Policy For all questions or to become a Partnering Synagogue\, please contact Rebbetzin Judi Steinig\, steinigj@ou.org
URL:https://www.ou.org/event/lashon-hakodesh/
END:VEVENT
BEGIN:VEVENT
DTSTART;TZID=America/New_York:20230509T110000
DTEND;TZID=America/New_York:20230509T120000
DTSTAMP:20260423T215724
CREATED:20230503T140314Z
LAST-MODIFIED:20230508T123329Z
UID:66081-1683630000-1683633600@www.ou.org
SUMMARY:SPIRIT: Coming of Sage: How We Matter as Parents and Grandparents
DESCRIPTION:Coming of Sage: How We Matter as Parents and Grandparents \nIt is no secret that parents and grandparents hold special influence that lasts for generations. \nStarting with her delightful account A Tale of Two Grandmothers\, the presentation will provide: \n\nThe one principle for making your children and grandchildren feel valued\nCreating your brand of parenting/grand-parenting\nCommunicating your legacy with wit\, warmth\, and wisdom\n\nClick here to register for the program (registrants will all receive the recording after the program) \nPresented by Shifra Novograd  \nShifra Novograd serves as the co-director of Leadership that Matters. As a professional facilitative mediator\, her primary focus is to help resolve highly-sensitive conflicts within families\, businesses\, and organizations.  A former producer and host of a live radio program about Jewish social and educational initiatives\, Shifra recently released her purpose-driven memoir intended to empower others to create lives that matter to them.  She also has created several leadership training seminars which she presents both in-person and online.  As a long-time community advocate\, Mrs. Novograd concentrates her efforts on assisting the geriatric population and the marriage-minded singles of Baltimore.  https://www.linkedin.com/in/shiframnovograd/ \nSPIRIT CORPORATE SPONSORS: \nMEMORY MATTERS — https://renayudkowsky.com/signature-course/ \nCAPITIL REAL ESTATE — https://capitil.com/ \nMEDICARE INSURANCE SPECIALIST — https://www.65andready.com/ \nFORSPANKLEAR\, LLP — https://www.forspanklear.com/ \nWINSTON WEALTH ADVISORS — https://www.winstonwealthadvisors.com/ou-spirit \nSCHWARTZ BROTHERS JEFFER/SINAI CHAPEL/PARKSIDE MEMORIAL CHAPELS — https://www.dignitymemorial.com/funeral-homes/forest-hills-ny/schwartz-brothers-jeffer-memorial-chapels/4131 \nCITIZENS BANK — https://lo.citizensbank.com/nj/woodcliff-lake/david-siegel \n_______________________________________________________________________ \nWe have created a new SPIRIT website with archives and upcoming programs! Now you can watch all of the SPIRIT presentations geared toward retirees- on subjects such as history to exercise to mental health\, all in one place!  \nCLICK HERE to enjoy past programs on-demand at your convenience! \n\nThe information provided by the OU SPIRIT program is for informational purposes only and should not be construed as advice on any legal/medical/nutritional/mental health/ financial/halachic or other subject matter.  You should not act or refrain from acting on the basis of the information you learn during a SPIRIT program without seeking legal/medical/nutritional/mental health/financial/Rabbinic or other appropriate professional advice. \n\nPartnering Synagogues: \nAnshei Chesed Congregation\, Boynton Beach (FL)\nAnshei Emuna Congregation\, Delray Beach (FL)\nBeth David Synagogue\, West Hartford (CT) \nBialystoker Synagogue\, New York (NY)\nB’nai Israel-Ohev Zedek\, Philadelphia (PA) \nCongregation Agudath Sholom\, Stamford (CT)\nCongregation Ahavas Sholom\, Columbus (OH)\n Congregation Aitz Chaim\, West Palm Beach (FL)\nCongregation Anshe Sfard\, New Orleans (LA) \nCongregation Anshe Sfard Kehillat Torah\, Glendale (WI)\nCongregation Beth Hamedrosh\, Wynnewood (PA)\nCongregation Beth Aaron\, Teaneck (NJ)\nCongregation Beth Ora\, Montreal (QUE)\nCongregation Beth Sholom\, Providence (RI) \nCongregation Bnai Yeshurun\, Teaneck (NJ)\nCongregation Etz Chaim of Kew Gardens Hills (NY) \nCongregation Kehilath Jeshurun\, New York (NY)\nCongregation Machane Chodosh\, Forest Hills\, NY\nCongregation Ohav Zedek\, Wilkes-Barre (PA) \nCongregation Tiferet Israel\, Austin (TX)\nCongregation Torah Ohr\, Boca Raton (FL) \nCongregation Zvi Jacob\, Utica (NY)\nDarchei Noam\, Minneapolis (MN) \nEast Denver Orthodox Synagogue (EDOS)\, Denver (CO)\nFleetwood Synagogue\, Fleetwood (NY) \nJewish Center of Atlantic Beach (NY)\nKehillat New Hempstead (NY) \nKehillat Shaarei Torah of Toronto (ONT)\nKeneseth Beth Israel\, Richmond (VA) \nNer Tamid Greenspring Valley Synagogue\, Baltimore (MD)\nSuburban Orthodox Congregation Toras Chaim\, Baltimore (MD)\nSuburban Torah\, Livingston (NJ) \nUnited Orthodox Synagogues\, Houston (TX)\nYoung Israel of Bal Harbour\, Surfside (FL)\n Young Israel of Brookline (MA)\nYoung Israel of Deerfield Beach (FL) \nYoung Israel of East Brunswick (NJ)\nYoung Israel of Elkins Park (PA) \nYoung Israel of Fort Lee (NJ)\nYoung Israel of Hillcrest (NY) \nYoung Israel of Hollywood/Ft. Lauderdale (FL)\nYoung Israel of Kew Gardens Hills (NY) \nYoung Israel of New Hyde Park (NY)\nYoung Israel of Plainview (NY)\n Young Israel of Queens Valley (NY)\nYoung Israel of Southfield (MI)\n Young Israel of Stamford (CT)\nYoung Israel of West Hartford (CT)\nYoung Israel of West Hempstead (NY) \n\nOU Privacy Policy For all questions or to become a Partnering Synagogue\, please contact Rebbetzin Judi Steinig\, steinigj@ou.org \n 
URL:https://www.ou.org/event/spirit-coming-of-sage-how-we-matter-as-parents-and-grandparents/
END:VEVENT
BEGIN:VEVENT
DTSTART;TZID=America/New_York:20230516T110000
DTEND;TZID=America/New_York:20230516T120000
DTSTAMP:20260423T215724
CREATED:20230503T144645Z
LAST-MODIFIED:20230508T123433Z
UID:66089-1684234800-1684238400@www.ou.org
SUMMARY:SPIRIT:  Exploring the Digital World: Technology Tips for Seniors
DESCRIPTION:Exploring the Digital World: Technology Tips for Seniors \nIn today’s world\, personal technology is everywhere and plays an important role in our daily lives. From smartphones to smart speakers\, technology has transformed the way we live\, learn\, pursue leisure activities\, and interact with others. However\, many adults may not be taking full advantage of the amazing benefits that personal technology has to offer. \nJoin Joan Green to explore ways you may not realize exist to overcome communication and cognitive challenges\, connect online with others\, become more organized\, reduce stress\, and have some fun! Participants will discover ten specific strategies\, such as using dictation and read-aloud accessibility features and smart assistants like Siri or Alexa\, to confidently and competently engage with technology. The presentation caters to tech novices and seasoned users alike\, offering valuable tips to improve tech-savvy skills and make the most out of personal technology. \nPresented by Joan L. Green\, M.A. CCC-SLP \nJoan Green is a passionate advocate for affordable technologies that improve people’s lives. She has an extensive background as a speech-language pathologist\, assistive technology specialist\, and online tech advisor\, and has been helping individuals and organizations for many years.  Joan offers personalized 1:1 tech advising sessions to families and organizations and creates engaging courses and presentations on assistive technology. She has authored four books on the topic of assistive technology\, which aim to help people with special needs. Her most recent initiative is to mentor a group of ElderTech Advisors to improve access to technology implementation for seniors. She excels at leveraging technology to create innovative solutions that enhance communication\, reading\, writing\, memory\, and productivity. Originally from Buffalo\, NY\, Joan received her formal graduate education from Northwestern University and now resides in Montgomery County\, MD. You can find more information about her private practice at www.innovativespeech.com. \nCLICK HERE to register for the session and to receive the recording following the program. \nSPIRIT CORPORATE SPONSORS: \nMEMORY MATTERS — https://renayudkowsky.com/signature-course/ \nCAPITIL REAL ESTATE — https://capitil.com/ \nMEDICARE INSURANCE SPECIALIST — https://www.65andready.com/ \nFORSPANKLEAR\, LLP — https://www.forspanklear.com/ \nWINSTON WEALTH ADVISORS — https://www.winstonwealthadvisors.com/ou-spirit \nSCHWARTZ BROTHERS JEFFER/SINAI CHAPEL/PARKSIDE MEMORIAL CHAPELS — https://www.dignitymemorial.com/funeral-homes/forest-hills-ny/schwartz-brothers-jeffer-memorial-chapels/4131 \nCITIZENS BANK — https://lo.citizensbank.com/nj/woodcliff-lake/david-siegel \n____________________________________________________________________ \nWe have created a new SPIRIT website with archives and upcoming programs! Now you can watch all of the SPIRIT presentations geared toward retirees- on subjects such as history to exercise to mental health\, all in one place!  \nCLICK HERE to enjoy past programs on-demand at your convenience! \n\nThe information provided by the OU SPIRIT program is for informational purposes only and should not be construed as advice on any legal/medical/nutritional/mental health/ financial/halachic or other subject matter.  You should not act or refrain from acting on the basis of the information you learn during a SPIRIT program without seeking legal/medical/nutritional/mental health/financial/Rabbinic or other appropriate professional advice. \n\nPartnering Synagogues: \nAnshei Chesed Congregation\, Boynton Beach (FL)\nAnshei Emuna Congregation\, Delray Beach (FL)\nBeth David Synagogue\, West Hartford (CT) \nBialystoker Synagogue\, New York (NY)\nB’nai Israel-Ohev Zedek\, Philadelphia (PA) \nCongregation Agudath Sholom\, Stamford (CT)\nCongregation Ahavas Sholom\, Columbus (OH)\n Congregation Aitz Chaim\, West Palm Beach (FL)\nCongregation Anshe Sfard\, New Orleans (LA) \nCongregation Anshe Sfard Kehillat Torah\, Glendale (WI)\nCongregation Beth Hamedrosh\, Wynnewood (PA)\nCongregation Beth Aaron\, Teaneck (NJ)\nCongregation Beth Ora\, Montreal (QUE)\nCongregation Beth Sholom\, Providence (RI) \nCongregation Bnai Yeshurun\, Teaneck (NJ)\nCongregation Etz Chaim of Kew Gardens Hills (NY) \nCongregation Kehilath Jeshurun\, New York (NY)\nCongregation Machane Chodosh\, Forest Hills\, NY\nCongregation Ohav Zedek\, Wilkes-Barre (PA) \nCongregation Tiferet Israel\, Austin (TX)\nCongregation Torah Ohr\, Boca Raton (FL) \nCongregation Zvi Jacob\, Utica (NY)\nDarchei Noam\, Minneapolis (MN) \nEast Denver Orthodox Synagogue (EDOS)\, Denver (CO)\nFleetwood Synagogue\, Fleetwood (NY) \nJewish Center of Atlantic Beach (NY)\nKehillat New Hempstead (NY) \nKehillat Shaarei Torah of Toronto (ONT)\nKeneseth Beth Israel\, Richmond (VA) \nNer Tamid Greenspring Valley Synagogue\, Baltimore (MD)\nSuburban Orthodox Congregation Toras Chaim\, Baltimore (MD)\nSuburban Torah\, Livingston (NJ) \nUnited Orthodox Synagogues\, Houston (TX)\nYoung Israel of Bal Harbour\, Surfside (FL)\n Young Israel of Brookline (MA)\nYoung Israel of Deerfield Beach (FL) \nYoung Israel of East Brunswick (NJ)\nYoung Israel of Elkins Park (PA) \nYoung Israel of Fort Lee (NJ)\nYoung Israel of Hillcrest (NY) \nYoung Israel of Hollywood/Ft. Lauderdale (FL)\nYoung Israel of Kew Gardens Hills (NY) \nYoung Israel of New Hyde Park (NY)\nYoung Israel of Plainview (NY)\n Young Israel of Queens Valley (NY)\nYoung Israel of Southfield (MI)\n Young Israel of Stamford (CT)\nYoung Israel of West Hartford (CT)\nYoung Israel of West Hempstead (NY) \n\nOU Privacy Policy For all questions or to become a Partnering Synagogue\, please contact Rebbetzin Judi Steinig\, steinigj@ou.org \n 
URL:https://www.ou.org/event/spirit-exploring-the-digital-world-technology-tips-for-seniors/
END:VEVENT
BEGIN:VEVENT
DTSTART;TZID=America/New_York:20230523T110000
DTEND;TZID=America/New_York:20230523T120000
DTSTAMP:20260423T215724
CREATED:20230515T204944Z
LAST-MODIFIED:20230515T210821Z
UID:66191-1684839600-1684843200@www.ou.org
SUMMARY:Isresilience: What Israelis Can Teach the World About Resilience
DESCRIPTION:Isresilience: What Israelis Can Teach the World About Resilience \nThis program will examine the concept of resilience against the backdrop of outstanding Israelis from all walks of life that exhibit that powerful trait. \nYou will learn from these Israelis how to increase resilience in your own lives. \nPresented by:  Naomi L. Baum\, Ph.D.\, Resilience Associates \nwww.naomibaum.com \nwww.slowtravelsblog.com \nThis session is pre-recorded. Please complete the form below to receive the link to view the program\, which will be sent prior to May 23\, 11 am. There will be no live session on May 23. \n\n\n                \n                        \n                            SPIRIT: Isresilience: What Israelis Can Teach the World About Resilience\n                             \n                        \n                        Name*\n                            \n                            \n                                                    \n                                                    First\n                                                \n                            \n                            \n                                                    \n                                                    Last\n                                                \n                            \n                        Email*\n                            \n                        Address*    \n                    \n                         \n                                        \n                                        Street Address\n                                    \n                                        \n                                        Address Line 2\n                                    \n                                    \n                                    City\n                                 \n                                        \n                                        State / Province / Region\n                                      \n                                    \n                                    ZIP / Postal Code\n                                \n                                        AfghanistanAlbaniaAlgeriaAmerican SamoaAndorraAngolaAnguillaAntarcticaAntigua and BarbudaArgentinaArmeniaArubaAustraliaAustriaAzerbaijanBahamasBahrainBangladeshBarbadosBelarusBelgiumBelizeBeninBermudaBhutanBoliviaBonaire\, Sint Eustatius and SabaBosnia and HerzegovinaBotswanaBouvet IslandBrazilBritish Indian Ocean TerritoryBrunei DarussalamBulgariaBurkina FasoBurundiCabo VerdeCambodiaCameroonCanadaCayman IslandsCentral African RepublicChadChileChinaChristmas IslandCocos IslandsColombiaComorosCongoCongo\, Democratic Republic of theCook IslandsCosta RicaCroatiaCubaCuraçaoCyprusCzechiaCôte d'IvoireDenmarkDjiboutiDominicaDominican RepublicEcuadorEgyptEl SalvadorEquatorial GuineaEritreaEstoniaEswatiniEthiopiaFalkland IslandsFaroe IslandsFijiFinlandFranceFrench GuianaFrench PolynesiaFrench Southern TerritoriesGabonGambiaGeorgiaGermanyGhanaGibraltarGreeceGreenlandGrenadaGuadeloupeGuamGuatemalaGuernseyGuineaGuinea-BissauGuyanaHaitiHeard Island and McDonald IslandsHoly SeeHondurasHong KongHungaryIcelandIndiaIndonesiaIranIraqIrelandIsle of ManIsraelItalyJamaicaJapanJerseyJordanKazakhstanKenyaKiribatiKorea\, Democratic People's Republic ofKorea\, Republic ofKuwaitKyrgyzstanLao People's Democratic RepublicLatviaLebanonLesothoLiberiaLibyaLiechtensteinLithuaniaLuxembourgMacaoMadagascarMalawiMalaysiaMaldivesMaliMaltaMarshall IslandsMartiniqueMauritaniaMauritiusMayotteMexicoMicronesiaMoldovaMonacoMongoliaMontenegroMontserratMoroccoMozambiqueMyanmarNamibiaNauruNepalNetherlandsNew CaledoniaNew ZealandNicaraguaNigerNigeriaNiueNorfolk IslandNorth MacedoniaNorthern Mariana IslandsNorwayOmanPakistanPalauPanamaPapua New GuineaParaguayPeruPhilippinesPitcairnPolandPortugalPuerto RicoQatarRomaniaRussian FederationRwandaRéunionSaint BarthélemySaint Helena\, Ascension and Tristan da CunhaSaint Kitts and NevisSaint LuciaSaint MartinSaint Pierre and MiquelonSaint Vincent and the GrenadinesSamoaSan MarinoSao Tome and PrincipeSaudi ArabiaSenegalSerbiaSeychellesSierra LeoneSingaporeSint MaartenSlovakiaSloveniaSolomon IslandsSomaliaSouth AfricaSouth Georgia and the South Sandwich IslandsSouth SudanSpainSri LankaSudanSurinameSvalbard and Jan MayenSwedenSwitzerlandSyria Arab RepublicTaiwanTajikistanTanzania\, the United Republic ofThailandTimor-LesteTogoTokelauTongaTrinidad and TobagoTunisiaTurkmenistanTurks and Caicos IslandsTuvaluTürkiyeUS Minor Outlying IslandsUgandaUkraineUnited Arab EmiratesUnited KingdomUnited StatesUruguayUzbekistanVanuatuVenezuelaViet NamVirgin Islands\, BritishVirgin Islands\, U.S.Wallis and FutunaWestern SaharaYemenZambiaZimbabweÅland Islands\n                                        Country\n                                    \n                    \n                \n          \n            \n            \n            \n            \n            \n            \n            \n            \n            \n            \n            \n            \n            \n        \n                        \n                        \n\n  \n  \n  \n  \nSPIRIT CORPORATE SPONSORS: \nMEMORY MATTERS — https://renayudkowsky.com/signature-course/ \nCAPITIL REAL ESTATE — https://capitil.com/ \nMEDICARE INSURANCE SPECIALIST — https://www.65andready.com/ \nFORSPANKLEAR\, LLP — https://www.forspanklear.com/ \nWINSTON WEALTH ADVISORS — https://www.winstonwealthadvisors.com/ou-spirit \nSCHWARTZ BROTHERS JEFFER/SINAI CHAPEL/PARKSIDE MEMORIAL CHAPELS — https://www.dignitymemorial.com/funeral-homes/forest-hills-ny/schwartz-brothers-jeffer-memorial-chapels/4131 \nCITIZENS BANK — https://lo.citizensbank.com/nj/woodcliff-lake/david-siegel \n____________________________________________________________________ \nWe have created a new SPIRIT website with archives and upcoming programs! Now you can watch all of the SPIRIT presentations geared toward retirees- on subjects such as history to exercise to mental health\, all in one place!  \nCLICK HERE to enjoy past programs on-demand at your convenience! \n\nThe information provided by the OU SPIRIT program is for informational purposes only and should not be construed as advice on any legal/medical/nutritional/mental health/ financial/halachic or other subject matter.  You should not act or refrain from acting on the basis of the information you learn during a SPIRIT program without seeking legal/medical/nutritional/mental health/financial/Rabbinic or other appropriate professional advice. \n\nPartnering Synagogues: \nAnshei Chesed Congregation\, Boynton Beach (FL)\nAnshei Emuna Congregation\, Delray Beach (FL)\nBeth David Synagogue\, West Hartford (CT) \nBialystoker Synagogue\, New York (NY)\nB’nai Israel-Ohev Zedek\, Philadelphia (PA) \nCongregation Agudath Sholom\, Stamford (CT)\nCongregation Ahavas Sholom\, Columbus (OH)\n Congregation Aitz Chaim\, West Palm Beach (FL)\nCongregation Anshe Sfard\, New Orleans (LA) \nCongregation Anshe Sfard Kehillat Torah\, Glendale (WI)\nCongregation Beth Hamedrosh\, Wynnewood (PA)\nCongregation Beth Aaron\, Teaneck (NJ)\nCongregation Beth Ora\, Montreal (QUE)\nCongregation Beth Sholom\, Providence (RI) \nCongregation Bnai Yeshurun\, Teaneck (NJ)\nCongregation Etz Chaim of Kew Gardens Hills (NY) \nCongregation Kehilath Jeshurun\, New York (NY)\nCongregation Machane Chodosh\, Forest Hills\, NY\nCongregation Ohav Zedek\, Wilkes-Barre (PA) \nCongregation Tiferet Israel\, Austin (TX)\nCongregation Torah Ohr\, Boca Raton (FL) \nCongregation Zvi Jacob\, Utica (NY)\nDarchei Noam\, Minneapolis (MN) \nEast Denver Orthodox Synagogue (EDOS)\, Denver (CO)\nFleetwood Synagogue\, Fleetwood (NY) \nJewish Center of Atlantic Beach (NY)\nKehillat New Hempstead (NY) \nKehillat Shaarei Torah of Toronto (ONT)\nKeneseth Beth Israel\, Richmond (VA) \nNer Tamid Greenspring Valley Synagogue\, Baltimore (MD)\nSuburban Orthodox Congregation Toras Chaim\, Baltimore (MD)\nSuburban Torah\, Livingston (NJ) \nUnited Orthodox Synagogues\, Houston (TX)\nYoung Israel of Bal Harbour\, Surfside (FL)\n Young Israel of Brookline (MA)\nYoung Israel of Deerfield Beach (FL) \nYoung Israel of East Brunswick (NJ)\nYoung Israel of Elkins Park (PA) \nYoung Israel of Fort Lee (NJ)\nYoung Israel of Hillcrest (NY) \nYoung Israel of Hollywood/Ft. Lauderdale (FL)\nYoung Israel of Kew Gardens Hills (NY) \nYoung Israel of New Hyde Park (NY)\nYoung Israel of Plainview (NY)\n Young Israel of Queens Valley (NY)\nYoung Israel of Southfield (MI)\n Young Israel of Stamford (CT)\nYoung Israel of West Hartford (CT)\nYoung Israel of West Hempstead (NY) \n\nOU Privacy Policy For all questions or to become a Partnering Synagogue\, please contact Rebbetzin Judi Steinig\, steinigj@ou.org \n 
URL:https://www.ou.org/event/isresilience-what-israelis-can-teach-the-world-about-resilience/
END:VEVENT
BEGIN:VEVENT
DTSTART;TZID=America/New_York:20230531T193000
DTEND;TZID=America/New_York:20230531T213000
DTSTAMP:20260423T215724
CREATED:20230523T214530Z
LAST-MODIFIED:20230523T214530Z
UID:66250-1685561400-1685568600@www.ou.org
SUMMARY:Let's Talk About Our Mental Health
DESCRIPTION:
URL:https://www.ou.org/event/lets-talk-about-our-mental-health/
LOCATION:Young Israel of Lawrence Cedarhurst\, 8 Spruce Street\, Cedarhurst\, NY\, United States
CATEGORIES:Community Engagement
END:VEVENT
END:VCALENDAR