BEGIN:VCALENDAR
VERSION:2.0
PRODID:-//Orthodox Union - ECPv6.15.20//NONSGML v1.0//EN
CALSCALE:GREGORIAN
METHOD:PUBLISH
X-WR-CALNAME:Orthodox Union
X-ORIGINAL-URL:https://www.ou.org
X-WR-CALDESC:Events for Orthodox Union
REFRESH-INTERVAL;VALUE=DURATION:PT1H
X-Robots-Tag:noindex
X-PUBLISHED-TTL:PT1H
BEGIN:VTIMEZONE
TZID:America/New_York
BEGIN:DAYLIGHT
TZOFFSETFROM:-0500
TZOFFSETTO:-0400
TZNAME:EDT
DTSTART:20250309T070000
END:DAYLIGHT
BEGIN:STANDARD
TZOFFSETFROM:-0400
TZOFFSETTO:-0500
TZNAME:EST
DTSTART:20251102T060000
END:STANDARD
BEGIN:DAYLIGHT
TZOFFSETFROM:-0500
TZOFFSETTO:-0400
TZNAME:EDT
DTSTART:20260308T070000
END:DAYLIGHT
BEGIN:STANDARD
TZOFFSETFROM:-0400
TZOFFSETTO:-0500
TZNAME:EST
DTSTART:20261101T060000
END:STANDARD
BEGIN:DAYLIGHT
TZOFFSETFROM:-0500
TZOFFSETTO:-0400
TZNAME:EDT
DTSTART:20270314T070000
END:DAYLIGHT
BEGIN:STANDARD
TZOFFSETFROM:-0400
TZOFFSETTO:-0500
TZNAME:EST
DTSTART:20271107T060000
END:STANDARD
END:VTIMEZONE
BEGIN:VEVENT
DTSTART;TZID=America/New_York:20260505T120000
DTEND;TZID=America/New_York:20260505T130000
DTSTAMP:20260423T162900
CREATED:20260423T200117Z
LAST-MODIFIED:20260423T200547Z
UID:82376-1777982400-1777986000@www.ou.org
SUMMARY:SPIRIT:  Intentional Jewish Grandparenting
DESCRIPTION:Intentional Jewish Grandparenting \nA conversation about roles\, goals\, opportunities\, and activities for hands-on bonding. \n\n\n\nLearn strategies for deepening and expanding the grandchild connection beyond treats and toys. \n\n\n  \n\n\n\n\n\n\n\n\n\n\n\n\n\n\n\n\n\n Presented by Faigie Horowitz MS and Miriam Liebermann MSW\, co-founders of JWOW!\, Jewish Women of Wisdom \n  \n\n\n\n\n\n\n\n\n\n\n\n\n\n\n\nClick here to register for the Zoom link for online participation and/or to receive the recording following the program. \nThis  SPIRIT program is dedicated to the memories of Moshe Ben Dov Ber (a”h) and Shayna Mirel bas Aharon (a”h) (Melvin and Mirele Steinig) \n  \nCORPORATE SPONSORS:   \nMEMORY MATTERS — https://renayudkowsky.com/signature-course/ \nCAPITIL REAL ESTATE — https://capitil.com/ \nMEDICARE INSURANCE SPECIALIST — https://www.65andready.com/ \nFORSPANKLEAR\, LLP — https://www.forspanklear.com/ \nWINSTON WEALTH ADVISORS — https://winstonwealthadvisors.com/ou/ \nSCHWARTZ BROTHERS JEFFER/SINAI CHAPEL/PARKSIDE MEMORIAL CHAPELS — https://www.dignitymemorial.com/funeral-homes/forest-hills-ny/schwartz-brothers-jeffer-memorial-chapels/4131 \nFIRST ISRAEL MORTGAGES:  https://www.firstisrael.com/ \nJRESPONDER — https://www.sosresponder.com/ \nKORINSKY & KLEIN\, LLP —  https://www.kklawfirm.com/ \nLET’S GET ORGANIZED — https://lgorganized.com/ \n____________________________________________________________________ \nWe have created a new SPIRIT website with archives and upcoming programs! Now you can watch all of the SPIRIT presentations geared toward retirees- on subjects such as history to exercise to mental health\, all in one place!  \nCLICK HERE to enjoy past programs on-demand at your convenience!    \n\nThe information provided by the OU SPIRIT program is for informational purposes only and should not be construed as advice on any legal/medical/nutritional/mental health/ financial/halachic or other subject matter.  You should not act or refrain from acting on the basis of the information you learn during a SPIRIT program without seeking legal/medical/nutritional/mental health/financial/Rabbinic or other appropriate professional advice. \n\nPartnering Synagogues: \nAnshei Chesed Congregation\, Boynton Beach (FL)\nAnshei Emuna Congregation\, Delray Beach (FL)\nBeth David Synagogue\, West Hartford (CT) \nBialystoker Synagogue\, New York (NY)\nB’nai Israel-Ohev Zedek\, Philadelphia (PA) \nCongregation Agudath Sholom\, Stamford (CT)\nCongregation Ahavas Sholom\, Columbus (OH)\n Congregation Aitz Chaim\, West Palm Beach (FL)\nCongregation Anshe Sfard\, New Orleans (LA) \nCongregation Anshe Sfard Kehillat Torah\, Glendale (WI)\nCongregation Beth Hamedrosh\, Wynnewood (PA)\nCongregation Beth Aaron\, Teaneck (NJ)\nCongregation Beth Ora\, Montreal (QUE)\nCongregation Beth Sholom\, Providence (RI) \nCongregation Bnai Yeshurun\, Teaneck (NJ)\nCongregation Etz Chaim of Kew Gardens Hills (NY) \nCongregation Kehilath Jeshurun\, New York (NY)\nCongregation Machane Chodosh\, Forest Hills (NY)\nCongregation Ohav Zedek\, Wilkes-Barre (PA)\nCongregation Ohr Torah\, West Orange (NJ) \nCongregation Tiferet Israel\, Austin (TX)\nCongregation Torah Ohr\, Boca Raton (FL) \nCongregation Zvi Jacob\, Utica (NY)\nDarchei Noam\, Minneapolis (MN) \nEast Denver Orthodox Synagogue (EDOS)\, Denver (CO)\nFleetwood Synagogue\, Fleetwood (NY) \nJewish Center of Atlantic Beach (NY)\nKehillat New Hempstead (NY) \nKehillat Shaarei Torah of Toronto (ONT)\nKeneseth Beth Israel\, Richmond (VA) \nNer Tamid Greenspring Valley Synagogue\, Baltimore (MD)\nSuburban Orthodox Congregation Toras Chaim\, Baltimore (MD)\nSuburban Torah\, Livingston (NJ) \nUnited Orthodox Synagogues\, Houston (TX)\nYoung Israel of Bal Harbour\, Surfside (FL)\n Young Israel of Brookline (MA)\nYoung Israel of Deerfield Beach (FL) \nYoung Israel of East Brunswick (NJ)\nYoung Israel of Elkins Park (PA) \nYoung Israel of Fort Lee (NJ)\nYoung Israel of Hillcrest (NY) \nYoung Israel of Hollywood/Ft. Lauderdale (FL)\nYoung Israel of Kew Gardens Hills (NY) \nYoung Israel of New Hyde Park (NY)\nYoung Israel of Plainview (NY)\n Young Israel of Queens Valley (NY)\nYoung Israel of Southfield (MI)\n Young Israel of Stamford (CT)\nYoung Israel of West Hartford (CT)\nYoung Israel of West Hempstead (NY) \n\nOU Privacy Policy  \nFor more information about becoming a SPIRIT Partner\, contact Rebbetzin Judi Steinig\, steinigj@ou.org
URL:https://www.ou.org/event/spirit-intentional-jewish-grandparenting/
END:VEVENT
BEGIN:VEVENT
DTSTART;VALUE=DATE:20260511
DTEND;VALUE=DATE:20260518
DTSTAMP:20260423T162900
CREATED:20260211T163202Z
LAST-MODIFIED:20260420T141225Z
UID:81498-1778457600-1779062399@www.ou.org
SUMMARY:SPIRIT Trip to New Orleans
DESCRIPTION:Join fellow SPIRT participants (60+ demographic) in New Orleans! \nThis mission which will provide activities for you to enjoy the local culture and entertainment and while doing chessed within the local community! \nMonday\, May 11-Sunday\, May 17th \nSingle occupancy: $2\,500 per person*\nDouble occupancy: $2\,000 per person* \nMonday\, May 11-Friday\, May 15 (leaving Friday morning) \nSingle occupancy: $1550 per person*\nDouble occupancy:  $1300 per person* \nSome highlights . . . (subject to change) are: \n\nHorse and Buggy Ride on a tour of the French Quarter\nJewish Historical Tour\nWWII Museum\nSteamboat Cruise\nFrench Market\nVisits to local shuls in New Orleans\nLight volunteering activities (geared for those 60+) to assist local communities\n\n*Price includes hotel stay\, transportation during the mission\, meals\, and activities.  Flight is not included\, and participants are responsible for booking their flights. \nRegister here: \nhttps://oureliefmissions.org/events/spirit-new-orleans/
URL:https://www.ou.org/event/spirit-trip-to-new-orleans/
END:VEVENT
BEGIN:VEVENT
DTSTART;TZID=America/New_York:20260519T120000
DTEND;TZID=America/New_York:20260519T130000
DTSTAMP:20260423T162900
CREATED:20260423T194835Z
LAST-MODIFIED:20260423T201338Z
UID:82373-1779192000-1779195600@www.ou.org
SUMMARY:SPIRIT: Dating After 60: First Date Success Tips for You or Someone You Care About
DESCRIPTION:Dating After 60: First Date Success Tips for You or Someone You Care About \n\nAre you a friend or relative of someone who’s single and struggling with dating?\nAre you single and sick of going on dates that feel like a WASTE OF TIME and aren’t leading to the relationship you want?\n\nPresented by Sandy Weiner \nIf the interesting high-value men are disappearing after one date or not asking you or a loved one out\, it’s NOT because something is wrong with them. There are just some things they don’t yet know. I’ll show you the REAL reasons why this is happening —and how you can instantly improve dating success with new information and easy-to-implement steps. \n  \nSandy Weiner  is an internationally known TEDx speaker\, dating and relationship coach at Last First Date (https://lastfirstdate.com)\, and the author of three books: “Becoming a Woman of Value; How to Thrive in Life and Love”\, “Choice Points in Dating; Empowering Women to Make Healthier Decisions in Love”\, and “Love at Last: True Stories of Falling in Love Later in Life”. The host of two popular podcasts\, Last First Date Radio and The Woman of Value Podcast\, Sandy believes it’s never too late to have the life and love you want! \n  \n\nClick here to register for the Zoom link for online participation and/or to receive the recording following the program. \nThis  SPIRIT program is dedicated to the memories of Moshe Ben Dov Ber (a”h) and Shayna Mirel bas Aharon (a”h) (Melvin and Mirele Steinig) \n  \nCORPORATE SPONSORS:   \nMEMORY MATTERS — https://renayudkowsky.com/signature-course/ \nCAPITIL REAL ESTATE — https://capitil.com/ \nMEDICARE INSURANCE SPECIALIST — https://www.65andready.com/ \nFORSPANKLEAR\, LLP — https://www.forspanklear.com/ \nWINSTON WEALTH ADVISORS — https://winstonwealthadvisors.com/ou/ \nSCHWARTZ BROTHERS JEFFER/SINAI CHAPEL/PARKSIDE MEMORIAL CHAPELS — https://www.dignitymemorial.com/funeral-homes/forest-hills-ny/schwartz-brothers-jeffer-memorial-chapels/4131 \nFIRST ISRAEL MORTGAGES:  https://www.firstisrael.com/ \nJRESPONDER — https://www.sosresponder.com/ \nKORINSKY & KLEIN\, LLP —  https://www.kklawfirm.com/ \nLET’S GET ORGANIZED — https://lgorganized.com/ \n____________________________________________________________________ \nWe have created a new SPIRIT website with archives and upcoming programs! Now you can watch all of the SPIRIT presentations geared toward retirees- on subjects such as history to exercise to mental health\, all in one place!  \nCLICK HERE to enjoy past programs on-demand at your convenience!    \n\nThe information provided by the OU SPIRIT program is for informational purposes only and should not be construed as advice on any legal/medical/nutritional/mental health/ financial/halachic or other subject matter.  You should not act or refrain from acting on the basis of the information you learn during a SPIRIT program without seeking legal/medical/nutritional/mental health/financial/Rabbinic or other appropriate professional advice. \n\nPartnering Synagogues: \nAnshei Chesed Congregation\, Boynton Beach (FL)\nAnshei Emuna Congregation\, Delray Beach (FL)\nBeth David Synagogue\, West Hartford (CT) \nBialystoker Synagogue\, New York (NY)\nB’nai Israel-Ohev Zedek\, Philadelphia (PA) \nCongregation Agudath Sholom\, Stamford (CT)\nCongregation Ahavas Sholom\, Columbus (OH)\n Congregation Aitz Chaim\, West Palm Beach (FL)\nCongregation Anshe Sfard\, New Orleans (LA) \nCongregation Anshe Sfard Kehillat Torah\, Glendale (WI)\nCongregation Beth Hamedrosh\, Wynnewood (PA)\nCongregation Beth Aaron\, Teaneck (NJ)\nCongregation Beth Ora\, Montreal (QUE)\nCongregation Beth Sholom\, Providence (RI) \nCongregation Bnai Yeshurun\, Teaneck (NJ)\nCongregation Etz Chaim of Kew Gardens Hills (NY) \nCongregation Kehilath Jeshurun\, New York (NY)\nCongregation Machane Chodosh\, Forest Hills (NY)\nCongregation Ohav Zedek\, Wilkes-Barre (PA)\nCongregation Ohr Torah\, West Orange (NJ) \nCongregation Tiferet Israel\, Austin (TX)\nCongregation Torah Ohr\, Boca Raton (FL) \nCongregation Zvi Jacob\, Utica (NY)\nDarchei Noam\, Minneapolis (MN) \nEast Denver Orthodox Synagogue (EDOS)\, Denver (CO)\nFleetwood Synagogue\, Fleetwood (NY) \nJewish Center of Atlantic Beach (NY)\nKehillat New Hempstead (NY) \nKehillat Shaarei Torah of Toronto (ONT)\nKeneseth Beth Israel\, Richmond (VA) \nNer Tamid Greenspring Valley Synagogue\, Baltimore (MD)\nSuburban Orthodox Congregation Toras Chaim\, Baltimore (MD)\nSuburban Torah\, Livingston (NJ) \nUnited Orthodox Synagogues\, Houston (TX)\nYoung Israel of Bal Harbour\, Surfside (FL)\n Young Israel of Brookline (MA)\nYoung Israel of Deerfield Beach (FL) \nYoung Israel of East Brunswick (NJ)\nYoung Israel of Elkins Park (PA) \nYoung Israel of Fort Lee (NJ)\nYoung Israel of Hillcrest (NY) \nYoung Israel of Hollywood/Ft. Lauderdale (FL)\nYoung Israel of Kew Gardens Hills (NY) \nYoung Israel of New Hyde Park (NY)\nYoung Israel of Plainview (NY)\n Young Israel of Queens Valley (NY)\nYoung Israel of Southfield (MI)\n Young Israel of Stamford (CT)\nYoung Israel of West Hartford (CT)\nYoung Israel of West Hempstead (NY) \n\nOU Privacy Policy  \nFor more information about becoming a SPIRIT Partner\, contact Rebbetzin Judi Steinig\, steinigj@ou.org
URL:https://www.ou.org/event/dating-after-60-spirit-first-date-success-tips-for-you-or-someone-you-care-about/
END:VEVENT
END:VCALENDAR