BEGIN:VCALENDAR
VERSION:2.0
PRODID:-//Orthodox Union - ECPv6.15.20//NONSGML v1.0//EN
CALSCALE:GREGORIAN
METHOD:PUBLISH
X-WR-CALNAME:Orthodox Union
X-ORIGINAL-URL:https://www.ou.org
X-WR-CALDESC:Events for Orthodox Union
REFRESH-INTERVAL;VALUE=DURATION:PT1H
X-Robots-Tag:noindex
X-PUBLISHED-TTL:PT1H
BEGIN:VTIMEZONE
TZID:America/New_York
BEGIN:DAYLIGHT
TZOFFSETFROM:-0500
TZOFFSETTO:-0400
TZNAME:EDT
DTSTART:20250309T070000
END:DAYLIGHT
BEGIN:STANDARD
TZOFFSETFROM:-0400
TZOFFSETTO:-0500
TZNAME:EST
DTSTART:20251102T060000
END:STANDARD
BEGIN:DAYLIGHT
TZOFFSETFROM:-0500
TZOFFSETTO:-0400
TZNAME:EDT
DTSTART:20260308T070000
END:DAYLIGHT
BEGIN:STANDARD
TZOFFSETFROM:-0400
TZOFFSETTO:-0500
TZNAME:EST
DTSTART:20261101T060000
END:STANDARD
BEGIN:DAYLIGHT
TZOFFSETFROM:-0500
TZOFFSETTO:-0400
TZNAME:EDT
DTSTART:20270314T070000
END:DAYLIGHT
BEGIN:STANDARD
TZOFFSETFROM:-0400
TZOFFSETTO:-0500
TZNAME:EST
DTSTART:20271107T060000
END:STANDARD
END:VTIMEZONE
BEGIN:VEVENT
DTSTART;TZID=America/New_York:20260217T120000
DTEND;TZID=America/New_York:20260217T130000
DTSTAMP:20260421T133243
CREATED:20260130T164041Z
LAST-MODIFIED:20260130T164041Z
UID:81302-1771329600-1771333200@www.ou.org
SUMMARY:SPIRIT: Dor L’Dor: Jewish Resilience as a Pathway to Lifelong Brain Health & Prevention
DESCRIPTION:Dor L’Dor: Jewish Resilience as a Pathway to Lifelong Brain Health & Prevention \nThe Dor L’Dor model—six pillars embedded in Jewish living that support resilience of the mind and spirit across the lifespan: Kehilla\, Torah\, Neshama\, Shabbat\, Chessed\, and Mesorah\, will be shared. We’ll connect these pillars to what research suggests protects brain health in later life—through community\, lifelong learning\, meaning\, restorative rhythm\, kindness\, and intergenerational connection. The session will be practical\, hopeful\, and grounded in familiar Jewish experience. \nPresented by Dr. Rachel Goodman \nDr. Rachel  Goodman is a licensed clinical psychologist with more than 20 years of experience in providing psychotherapy and psychological assessment to a variety of populations. She is a member of the Ordres des Psychologues du Quebec\, the College of Psychologists of New Brunswick\, and the College of Alberta Psychologists. Dr. Goodman has more than 25 years of experience with areas of expertise including the evaluation and treatment of anxiety and depressive disorders\, stress\, trauma and PTSD\, ADHD and neurocognitive disorders\, caregiver stress\, and memory wellness. She has a passion for and has spent much of her career working with Holocaust survivors and their families as she the daughter and granddaughter or Survivors. \nClick here to register for the Zoom link for online participation and/or to receive the recording following the program. \nThis  SPIRIT program is dedicated to the memories of Moshe Ben Dov Ber (a”h) and Shayna Mirel bas Aharon (a”h) (Melvin and Mirele Steinig) \n  \nCORPORATE SPONSORS:   \nMEMORY MATTERS — https://renayudkowsky.com/signature-course/ \nCAPITIL REAL ESTATE — https://capitil.com/ \nMEDICARE INSURANCE SPECIALIST — https://www.65andready.com/ \nFORSPANKLEAR\, LLP — https://www.forspanklear.com/ \nWINSTON WEALTH ADVISORS — https://winstonwealthadvisors.com/ou/ \nSCHWARTZ BROTHERS JEFFER/SINAI CHAPEL/PARKSIDE MEMORIAL CHAPELS — https://www.dignitymemorial.com/funeral-homes/forest-hills-ny/schwartz-brothers-jeffer-memorial-chapels/4131 \nFIRST ISRAEL MORTGAGES:  https://www.firstisrael.com/ \nJRESPONDER — https://www.sosresponder.com/ \nKORINSKY & KLEIN\, LLP —  https://www.kklawfirm.com/ \nLET’S GET ORGANIZED — https://lgorganized.com/ \n____________________________________________________________________ \nWe have created a new SPIRIT website with archives and upcoming programs! Now you can watch all of the SPIRIT presentations geared toward retirees- on subjects such as history to exercise to mental health\, all in one place!  \nCLICK HERE to enjoy past programs on-demand at your convenience!    \n\nThe information provided by the OU SPIRIT program is for informational purposes only and should not be construed as advice on any legal/medical/nutritional/mental health/ financial/halachic or other subject matter.  You should not act or refrain from acting on the basis of the information you learn during a SPIRIT program without seeking legal/medical/nutritional/mental health/financial/Rabbinic or other appropriate professional advice. \n\nPartnering Synagogues: \nAnshei Chesed Congregation\, Boynton Beach (FL)\nAnshei Emuna Congregation\, Delray Beach (FL)\nBeth David Synagogue\, West Hartford (CT) \nBialystoker Synagogue\, New York (NY)\nB’nai Israel-Ohev Zedek\, Philadelphia (PA) \nCongregation Agudath Sholom\, Stamford (CT)\nCongregation Ahavas Sholom\, Columbus (OH)\n Congregation Aitz Chaim\, West Palm Beach (FL)\nCongregation Anshe Sfard\, New Orleans (LA) \nCongregation Anshe Sfard Kehillat Torah\, Glendale (WI)\nCongregation Beth Hamedrosh\, Wynnewood (PA)\nCongregation Beth Aaron\, Teaneck (NJ)\nCongregation Beth Ora\, Montreal (QUE)\nCongregation Beth Sholom\, Providence (RI) \nCongregation Bnai Yeshurun\, Teaneck (NJ)\nCongregation Etz Chaim of Kew Gardens Hills (NY) \nCongregation Kehilath Jeshurun\, New York (NY)\nCongregation Machane Chodosh\, Forest Hills (NY)\nCongregation Ohav Zedek\, Wilkes-Barre (PA)\nCongregation Ohr Torah\, West Orange (NJ) \nCongregation Tiferet Israel\, Austin (TX)\nCongregation Torah Ohr\, Boca Raton (FL) \nCongregation Zvi Jacob\, Utica (NY)\nDarchei Noam\, Minneapolis (MN) \nEast Denver Orthodox Synagogue (EDOS)\, Denver (CO)\nFleetwood Synagogue\, Fleetwood (NY) \nJewish Center of Atlantic Beach (NY)\nKehillat New Hempstead (NY) \nKehillat Shaarei Torah of Toronto (ONT)\nKeneseth Beth Israel\, Richmond (VA) \nNer Tamid Greenspring Valley Synagogue\, Baltimore (MD)\nSuburban Orthodox Congregation Toras Chaim\, Baltimore (MD)\nSuburban Torah\, Livingston (NJ) \nUnited Orthodox Synagogues\, Houston (TX)\nYoung Israel of Bal Harbour\, Surfside (FL)\n Young Israel of Brookline (MA)\nYoung Israel of Deerfield Beach (FL) \nYoung Israel of East Brunswick (NJ)\nYoung Israel of Elkins Park (PA) \nYoung Israel of Fort Lee (NJ)\nYoung Israel of Hillcrest (NY) \nYoung Israel of Hollywood/Ft. Lauderdale (FL)\nYoung Israel of Kew Gardens Hills (NY) \nYoung Israel of New Hyde Park (NY)\nYoung Israel of Plainview (NY)\n Young Israel of Queens Valley (NY)\nYoung Israel of Southfield (MI)\n Young Israel of Stamford (CT)\nYoung Israel of West Hartford (CT)\nYoung Israel of West Hempstead (NY) \n\nOU Privacy Policy  \nFor more information about becoming a SPIRIT Partner\, contact Rebbetzin Judi Steinig\, steinigj@ou.org
URL:https://www.ou.org/event/spirit-dor-ldor-jewish-resilience-as-a-pathway-to-lifelong-brain-health-prevention/
END:VEVENT
END:VCALENDAR