BEGIN:VCALENDAR
VERSION:2.0
PRODID:-//Orthodox Union - ECPv6.15.20//NONSGML v1.0//EN
CALSCALE:GREGORIAN
METHOD:PUBLISH
X-ORIGINAL-URL:https://www.ou.org
X-WR-CALDESC:Events for Orthodox Union
REFRESH-INTERVAL;VALUE=DURATION:PT1H
X-Robots-Tag:noindex
X-PUBLISHED-TTL:PT1H
BEGIN:VTIMEZONE
TZID:America/New_York
BEGIN:DAYLIGHT
TZOFFSETFROM:-0500
TZOFFSETTO:-0400
TZNAME:EDT
DTSTART:20240310T070000
END:DAYLIGHT
BEGIN:STANDARD
TZOFFSETFROM:-0400
TZOFFSETTO:-0500
TZNAME:EST
DTSTART:20241103T060000
END:STANDARD
BEGIN:DAYLIGHT
TZOFFSETFROM:-0500
TZOFFSETTO:-0400
TZNAME:EDT
DTSTART:20250309T070000
END:DAYLIGHT
BEGIN:STANDARD
TZOFFSETFROM:-0400
TZOFFSETTO:-0500
TZNAME:EST
DTSTART:20251102T060000
END:STANDARD
BEGIN:DAYLIGHT
TZOFFSETFROM:-0500
TZOFFSETTO:-0400
TZNAME:EDT
DTSTART:20260308T070000
END:DAYLIGHT
BEGIN:STANDARD
TZOFFSETFROM:-0400
TZOFFSETTO:-0500
TZNAME:EST
DTSTART:20261101T060000
END:STANDARD
END:VTIMEZONE
BEGIN:VEVENT
DTSTART;TZID=America/New_York:20250722T120000
DTEND;TZID=America/New_York:20250722T130000
DTSTAMP:20260422T005353
CREATED:20250715T115847Z
LAST-MODIFIED:20250715T154752Z
UID:77708-1753185600-1753189200@www.ou.org
SUMMARY:SPIRIT: Checks and Balances: Ensuring Our Help Empowers\, not Enables\, Our Adult Children
DESCRIPTION:Checks and Balances: Ensuring Our Help Empowers\, not Enables\, Our Adult Children \n\nSupport our adult children as wisely as possible\nEnsuring we are fostering financially healthy\, independent adults\nSetting guidelines for assistance\nBudgeting with our adult children before\, during\, and after the support period\n\nPresented by Stacey Zrihen \nStacey Zrihen is the Head Coach at Living Smarter Jewish and a certified financial planner ®️. She has led LSJ’s coaching initiatives\, developed financial education content for both teens and adults\, provided free financial coaching to thousands of couples\, and spoken widely across the U.S. and Israel on personal finance within the Orthodox Jewish community.\nClick here to register for the Zoom link and to receive the recording following the program. \n  \nAbout LSJ – Living Smarter Jewish\nLiving Smarter Jewish\, a program under the Orthodox Union (OU)\, is dedicated to helping individuals\, couples\, and families achieve financial freedom through educational resources and personalized guidance. Our offerings include a high school financial literacy curriculum\, access to LSJ coaches as guest speakers for community education\, and free one-on-one financial coaching for anyone in need. \nSign up for coaching: Email us at lsj@ou.org or https://outlook.office365.com/book/LivingSmarterJewish3@UOJCA.onmicrosoft.com/?ismsaljsauthenabled=true to schedule an intake call. \nBuy the High School Curriculum: https://livingsmarterjewish.org/high-school-curriculum-payment/ \n  \nThis  SPIRIT program is dedicated to the memories of Moshe Ben Dov Ber (a”h) and Shayna Mirel bas Aharon (a”h) (Melvin and Mirele Steinig) \n  \nCORPORATE SPONSORS:   \nMEMORY MATTERS — https://renayudkowsky.com/signature-course/ \nCAPITIL REAL ESTATE — https://capitil.com/ \nMEDICARE INSURANCE SPECIALIST — https://www.65andready.com/ \nFORSPANKLEAR\, LLP — https://www.forspanklear.com/ \nWINSTON WEALTH ADVISORS — https://winstonwealthadvisors.com/ou/ \nSCHWARTZ BROTHERS JEFFER/SINAI CHAPEL/PARKSIDE MEMORIAL CHAPELS — https://www.dignitymemorial.com/funeral-homes/forest-hills-ny/schwartz-brothers-jeffer-memorial-chapels/4131 \nFIRST ISRAEL MORTGAGES:  https://www.firstisrael.com/ \nJRESPONDER — https://www.sosresponder.com/ \nKORINSKY & KLEIN\, LLP —  https://www.kklawfirm.com/ \nLET’S GET ORGANIZED — https://lgorganized.com/ \n____________________________________________________________________ \nWe have created a new SPIRIT website with archives and upcoming programs! Now you can watch all of the SPIRIT presentations geared toward retirees- on subjects such as history to exercise to mental health\, all in one place!  \nCLICK HERE to enjoy past programs on-demand at your convenience!    \n\nThe information provided by the OU SPIRIT program is for informational purposes only and should not be construed as advice on any legal/medical/nutritional/mental health/ financial/halachic or other subject matter.  You should not act or refrain from acting on the basis of the information you learn during a SPIRIT program without seeking legal/medical/nutritional/mental health/financial/Rabbinic or other appropriate professional advice. \n\nPartnering Synagogues: \nAnshei Chesed Congregation\, Boynton Beach (FL)\nAnshei Emuna Congregation\, Delray Beach (FL)\nBeth David Synagogue\, West Hartford (CT) \nBialystoker Synagogue\, New York (NY)\nB’nai Israel-Ohev Zedek\, Philadelphia (PA) \nCongregation Agudath Sholom\, Stamford (CT)\nCongregation Ahavas Sholom\, Columbus (OH)\n Congregation Aitz Chaim\, West Palm Beach (FL)\nCongregation Anshe Sfard\, New Orleans (LA) \nCongregation Anshe Sfard Kehillat Torah\, Glendale (WI)\nCongregation Beth Hamedrosh\, Wynnewood (PA)\nCongregation Beth Aaron\, Teaneck (NJ)\nCongregation Beth Ora\, Montreal (QUE)\nCongregation Beth Sholom\, Providence (RI) \nCongregation Bnai Yeshurun\, Teaneck (NJ)\nCongregation Etz Chaim of Kew Gardens Hills (NY) \nCongregation Kehilath Jeshurun\, New York (NY)\nCongregation Machane Chodosh\, Forest Hills (NY)\nCongregation Ohav Zedek\, Wilkes-Barre (PA)\nCongregation Ohr Torah\, West Orange (NJ) \nCongregation Tiferet Israel\, Austin (TX)\nCongregation Torah Ohr\, Boca Raton (FL) \nCongregation Zvi Jacob\, Utica (NY)\nDarchei Noam\, Minneapolis (MN) \nEast Denver Orthodox Synagogue (EDOS)\, Denver (CO)\nFleetwood Synagogue\, Fleetwood (NY) \nJewish Center of Atlantic Beach (NY)\nKehillat New Hempstead (NY) \nKehillat Shaarei Torah of Toronto (ONT)\nKeneseth Beth Israel\, Richmond (VA) \nNer Tamid Greenspring Valley Synagogue\, Baltimore (MD)\nSuburban Orthodox Congregation Toras Chaim\, Baltimore (MD)\nSuburban Torah\, Livingston (NJ) \nUnited Orthodox Synagogues\, Houston (TX)\nYoung Israel of Bal Harbour\, Surfside (FL)\n Young Israel of Brookline (MA)\nYoung Israel of Deerfield Beach (FL) \nYoung Israel of East Brunswick (NJ)\nYoung Israel of Elkins Park (PA) \nYoung Israel of Fort Lee (NJ)\nYoung Israel of Hillcrest (NY) \nYoung Israel of Hollywood/Ft. Lauderdale (FL)\nYoung Israel of Kew Gardens Hills (NY) \nYoung Israel of New Hyde Park (NY)\nYoung Israel of Plainview (NY)\n Young Israel of Queens Valley (NY)\nYoung Israel of Southfield (MI)\n Young Israel of Stamford (CT)\nYoung Israel of West Hartford (CT)\nYoung Israel of West Hempstead (NY) \n\nOU Privacy Policy  \nFor more information about becoming a SPIRIT Partner\, contact Rebbetzin Judi Steinig\, steinigj@ou.org \n 
URL:https://www.ou.org/event/spirit-checks-and-balances-ensuring-our-help-empowers-not-enables-our-adult-children/
END:VEVENT
END:VCALENDAR