BEGIN:VCALENDAR
VERSION:2.0
PRODID:-//Orthodox Union - ECPv6.15.20//NONSGML v1.0//EN
CALSCALE:GREGORIAN
METHOD:PUBLISH
X-WR-CALNAME:Orthodox Union
X-ORIGINAL-URL:https://www.ou.org
X-WR-CALDESC:Events for Orthodox Union
REFRESH-INTERVAL;VALUE=DURATION:PT1H
X-Robots-Tag:noindex
X-PUBLISHED-TTL:PT1H
BEGIN:VTIMEZONE
TZID:America/New_York
BEGIN:DAYLIGHT
TZOFFSETFROM:-0500
TZOFFSETTO:-0400
TZNAME:EDT
DTSTART:20230312T070000
END:DAYLIGHT
BEGIN:STANDARD
TZOFFSETFROM:-0400
TZOFFSETTO:-0500
TZNAME:EST
DTSTART:20231105T060000
END:STANDARD
BEGIN:DAYLIGHT
TZOFFSETFROM:-0500
TZOFFSETTO:-0400
TZNAME:EDT
DTSTART:20240310T070000
END:DAYLIGHT
BEGIN:STANDARD
TZOFFSETFROM:-0400
TZOFFSETTO:-0500
TZNAME:EST
DTSTART:20241103T060000
END:STANDARD
BEGIN:DAYLIGHT
TZOFFSETFROM:-0500
TZOFFSETTO:-0400
TZNAME:EDT
DTSTART:20250309T070000
END:DAYLIGHT
BEGIN:STANDARD
TZOFFSETFROM:-0400
TZOFFSETTO:-0500
TZNAME:EST
DTSTART:20251102T060000
END:STANDARD
END:VTIMEZONE
BEGIN:VEVENT
DTSTART;VALUE=DATE:20240310
DTEND;VALUE=DATE:20240315
DTSTAMP:20260423T035054
CREATED:20240102T140336Z
LAST-MODIFIED:20240306T170334Z
UID:69132-1710028800-1710460799@www.ou.org
SUMMARY:SPIRIT UNITY MISSION TO ISRAEL
DESCRIPTION:SPIRIT UNITY MISSION TO ISRAEL \n\nSUPPORT\, ASSISTANCE\, and CHIZZUK\nMarch 10-14\, 2024\n\n\nFee: \n$2199  Registration with Double room occupancy  (does not include airfare)\n$2399 Registration for Single Room occupancy (does not include airfare)\n$1845 Program without hotel stay (does not include airfare)\n\nParticipation by the day is also available  — see below\n\nPrice includes:\n\n\nLodging in Kings Hotel (or equivalent)  \n3 meals per day\nAir-conditioned/heated bus\nArmed guard traveling with the group\nPlanning and implementation of itinerary\nFull logistical support services\nMedical Insurance \nVisit to Sderot \nMeetings with bereaved grandparents\, evacuees\, milluim families \nBarbecue with soldiers \nVolunteer projects \nVisit to the Kotel\nActivities and schedule geared to the SPIRIT +60 demographic\n\n\n\nNot Included: \n\nAirfare\nTravel insurance\nVAT for Israeli citizens traveling as part of the group\n\n\nClick here for full registration  — trip size is limited so register today!\n\nClick here for Daily registrations\n\nContact Miriam Dessau\, dessaum@ou.org or steinigj@ou.org for any questions
URL:https://www.ou.org/event/69132/
END:VEVENT
BEGIN:VEVENT
DTSTART;TZID=America/New_York:20240312T130000
DTEND;TZID=America/New_York:20240312T140000
DTSTAMP:20260423T035054
CREATED:20240304T161838Z
LAST-MODIFIED:20240310T135554Z
UID:69961-1710248400-1710252000@www.ou.org
SUMMARY:SPIRIT: Adar and Purim-Finding Joy in Times of Trouble
DESCRIPTION:Adar and Purim-Finding Joy in Times of Trouble \n  \nPLEASE NOTE TIME CHANGE BECAUSE OF US DAYLIGHT SAVINGS TIME  1 PM EDT\, \nJoin us VIRTUALLY during our OU SPIRIT MISSION VISIT to OU ISRAEL. \nWe will be privileged to hear from RABBI SAM SHOR\, OU Israel Program Director \nClick here to register. \n  \nClick Here to download the source sheet for the program. \nRegistrants will receive the login link for the program — after the program\, they will receive the recording of the program regardless of whether they participate in the live session. \nThis program is dedicated to the memory of  Moshe Ben Dov Ber (Melvin Steinig) Z”L and Shayna Mirel bas Aharon (Mirele Steinig) Z”L \n  \nCORPORATE SPONSORS:   \nMEMORY MATTERS — https://renayudkowsky.com/signature-course/ \nCAPITIL REAL ESTATE — https://capitil.com/ \nMEDICARE INSURANCE SPECIALIST — https://www.65andready.com/ \nFORSPANKLEAR\, LLP — https://www.forspanklear.com/ \nWINSTON WEALTH ADVISORS — https://www.winstonwealthadvisors.com/ou-spirit \nSCHWARTZ BROTHERS JEFFER/SINAI CHAPEL/PARKSIDE MEMORIAL CHAPELS — https://www.dignitymemorial.com/funeral-homes/forest-hills-ny/schwartz-brothers-jeffer-memorial-chapels/4131 \nCITIZENS BANK — https://lo.citizensbank.com/nj/woodcliff-lake/david-siegel \nJRESPONDER — https://www.sosresponder.com/ \n____________________________________________________________________ \nWe have created a new SPIRIT website with archives and upcoming programs! Now you can watch all of the SPIRIT presentations geared toward retirees- on subjects such as history to exercise to mental health\, all in one place!  \nCLICK HERE to enjoy past programs on-demand at your convenience!    \n\nThe information provided by the OU SPIRIT program is for informational purposes only and should not be construed as advice on any legal/medical/nutritional/mental health/ financial/halachic or other subject matter.  You should not act or refrain from acting on the basis of the information you learn during a SPIRIT program without seeking legal/medical/nutritional/mental health/financial/Rabbinic or other appropriate professional advice. \n\nPartnering Synagogues: \nAnshei Chesed Congregation\, Boynton Beach (FL)\nAnshei Emuna Congregation\, Delray Beach (FL)\nBeth David Synagogue\, West Hartford (CT) \nBialystoker Synagogue\, New York (NY)\nB’nai Israel-Ohev Zedek\, Philadelphia (PA) \nCongregation Agudath Sholom\, Stamford (CT)\nCongregation Ahavas Sholom\, Columbus (OH)\n Congregation Aitz Chaim\, West Palm Beach (FL)\nCongregation Anshe Sfard\, New Orleans (LA) \nCongregation Anshe Sfard Kehillat Torah\, Glendale (WI)\nCongregation Beth Hamedrosh\, Wynnewood (PA)\nCongregation Beth Aaron\, Teaneck (NJ)\nCongregation Beth Ora\, Montreal (QUE)\nCongregation Beth Sholom\, Providence (RI) \nCongregation Bnai Yeshurun\, Teaneck (NJ)\nCongregation Etz Chaim of Kew Gardens Hills (NY) \nCongregation Kehilath Jeshurun\, New York (NY)\nCongregation Machane Chodosh\, Forest Hills\, NY\nCongregation Ohav Zedek\, Wilkes-Barre (PA) \nCongregation Tiferet Israel\, Austin (TX)\nCongregation Torah Ohr\, Boca Raton (FL) \nCongregation Zvi Jacob\, Utica (NY)\nDarchei Noam\, Minneapolis (MN) \nEast Denver Orthodox Synagogue (EDOS)\, Denver (CO)\nFleetwood Synagogue\, Fleetwood (NY) \nJewish Center of Atlantic Beach (NY)\nKehillat New Hempstead (NY) \nKehillat Shaarei Torah of Toronto (ONT)\nKeneseth Beth Israel\, Richmond (VA) \nNer Tamid Greenspring Valley Synagogue\, Baltimore (MD)\nSuburban Orthodox Congregation Toras Chaim\, Baltimore (MD)\nSuburban Torah\, Livingston (NJ) \nUnited Orthodox Synagogues\, Houston (TX)\nYoung Israel of Bal Harbour\, Surfside (FL)\n Young Israel of Brookline (MA)\nYoung Israel of Deerfield Beach (FL) \nYoung Israel of East Brunswick (NJ)\nYoung Israel of Elkins Park (PA) \nYoung Israel of Fort Lee (NJ)\nYoung Israel of Hillcrest (NY) \nYoung Israel of Hollywood/Ft. Lauderdale (FL)\nYoung Israel of Kew Gardens Hills (NY) \nYoung Israel of New Hyde Park (NY)\nYoung Israel of Plainview (NY)\n Young Israel of Queens Valley (NY)\nYoung Israel of Southfield (MI)\n Young Israel of Stamford (CT)\nYoung Israel of West Hartford (CT)\nYoung Israel of West Hempstead (NY) \n\nOU Privacy Policy  \nFor all questions or to become a Partnering Synagogue\, please contact Rebbetzin Judi Steinig\, steinigj@ou.org
URL:https://www.ou.org/event/spirit-adar-and-purim-finding-joy-in-times-of-trouble/
END:VEVENT
END:VCALENDAR