BEGIN:VCALENDAR
VERSION:2.0
PRODID:-//Orthodox Union - ECPv6.15.20//NONSGML v1.0//EN
CALSCALE:GREGORIAN
METHOD:PUBLISH
X-WR-CALNAME:Orthodox Union
X-ORIGINAL-URL:https://www.ou.org
X-WR-CALDESC:Events for Orthodox Union
REFRESH-INTERVAL;VALUE=DURATION:PT1H
X-Robots-Tag:noindex
X-PUBLISHED-TTL:PT1H
BEGIN:VTIMEZONE
TZID:America/New_York
BEGIN:DAYLIGHT
TZOFFSETFROM:-0500
TZOFFSETTO:-0400
TZNAME:EDT
DTSTART:20220313T070000
END:DAYLIGHT
BEGIN:STANDARD
TZOFFSETFROM:-0400
TZOFFSETTO:-0500
TZNAME:EST
DTSTART:20221106T060000
END:STANDARD
BEGIN:DAYLIGHT
TZOFFSETFROM:-0500
TZOFFSETTO:-0400
TZNAME:EDT
DTSTART:20230312T070000
END:DAYLIGHT
BEGIN:STANDARD
TZOFFSETFROM:-0400
TZOFFSETTO:-0500
TZNAME:EST
DTSTART:20231105T060000
END:STANDARD
BEGIN:DAYLIGHT
TZOFFSETFROM:-0500
TZOFFSETTO:-0400
TZNAME:EDT
DTSTART:20240310T070000
END:DAYLIGHT
BEGIN:STANDARD
TZOFFSETFROM:-0400
TZOFFSETTO:-0500
TZNAME:EST
DTSTART:20241103T060000
END:STANDARD
END:VTIMEZONE
BEGIN:VEVENT
DTSTART;TZID=America/New_York:20231108T120000
DTEND;TZID=America/New_York:20231108T130000
DTSTAMP:20260423T131523
CREATED:20231026T135210Z
LAST-MODIFIED:20231026T151825Z
UID:68255-1699444800-1699448400@www.ou.org
SUMMARY:SPIRIT: KEEPING STRONG TOGETHER: Let's Talk . . .
DESCRIPTION:KEEPING STRONG TOGETHER: Let’s Talk . . . \nEveryone in the OU SPIRIT program is affected by the current Israeli matzav – we may have children and grandchildren living in Eretz Yisroel\, serving in the IDF\, or perhaps we are living in Israel.  Wherever we are living\, we are constantly worried and concerned about our loved ones\, and they are concerned for us. \nHow are we coping in these difficult times?  Join us for this “Let’s Talk” session to share your experiences\, learn from others\, and receive support from others in similar situations. \nPlease note:  \n\nLet’s Talk sessions will not be recorded.\nLET’S TALK is a social component of the Orthodox Union’s SPIRIT (The Stimulating Program Initiative for Retirees That Inspires Thought).  Those who choose to participate in a LET’S TALK session will be assigned to a breakout room by the Host.  Breakout Room assignments will be random and will allow for audio/video/chat interaction among participants.  The Orthodox Union will not provide contact information following the program for any participants.  Participants may provide their own contact information at their own discretion.  The Orthodox Union assumes no responsibility and disclaims all liability for any comments made during any LET’S TALK session or any follow-up interactions. \n\nCLICK HERE to register for Zoom link  — this session is on WEDNESDAY\, NOVEMBER 8\, 12 noon EDT \nWe have created a new SPIRIT website with archives and upcoming programs! Now you can watch all of the SPIRIT presentations geared toward retirees- on subjects such as history to exercise to mental health\, all in one place!  \nCLICK HERE to enjoy past programs on-demand at your convenience! \n\nThe information provided by the OU SPIRIT program is for informational purposes only and should not be construed as advice on any legal/medical/nutritional/mental health/ financial/halachic or other subject matter.  You should not act or refrain from acting on the basis of the information you learn during a SPIRIT program without seeking legal/medical/nutritional/mental health/financial/Rabbinic or other appropriate professional advice. \n\nPartnering Synagogues: \nAnshei Chesed Congregation\, Boynton Beach (FL)\nAnshei Emuna Congregation\, Delray Beach (FL)\nBeth David Synagogue\, West Hartford (CT) \nBialystoker Synagogue\, New York (NY)\nB’nai Israel-Ohev Zedek\, Philadelphia (PA) \nCongregation Agudath Sholom\, Stamford (CT)\nCongregation Ahavas Sholom\, Columbus (OH)\n Congregation Aitz Chaim\, West Palm Beach (FL)\nCongregation Anshe Sfard\, New Orleans (LA) \nCongregation Anshe Sfard Kehillat Torah\, Glendale (WI)\nCongregation Beth Hamedrosh\, Wynnewood (PA)\nCongregation Beth Aaron\, Teaneck (NJ)\nCongregation Beth Ora\, Montreal (QUE)\nCongregation Beth Sholom\, Providence (RI) \nCongregation Bnai Yeshurun\, Teaneck (NJ)\nCongregation Etz Chaim of Kew Gardens Hills (NY) \nCongregation Kehilath Jeshurun\, New York (NY)\nCongregation Machane Chodosh\, Forest Hills\, NY\nCongregation Ohav Zedek\, Wilkes-Barre (PA) \nCongregation Tiferet Israel\, Austin (TX)\nCongregation Torah Ohr\, Boca Raton (FL) \nCongregation Zvi Jacob\, Utica (NY)\nDarchei Noam\, Minneapolis (MN) \nEast Denver Orthodox Synagogue (EDOS)\, Denver (CO)\nFleetwood Synagogue\, Fleetwood (NY) \nJewish Center of Atlantic Beach (NY)\nKehillat New Hempstead (NY) \nKehillat Shaarei Torah of Toronto (ONT)\nKeneseth Beth Israel\, Richmond (VA) \nNer Tamid Greenspring Valley Synagogue\, Baltimore (MD)\nSuburban Orthodox Congregation Toras Chaim\, Baltimore (MD)\nSuburban Torah\, Livingston (NJ) \nUnited Orthodox Synagogues\, Houston (TX)\nYoung Israel of Bal Harbour\, Surfside (FL)\n Young Israel of Brookline (MA)\nYoung Israel of Deerfield Beach (FL) \nYoung Israel of East Brunswick (NJ)\nYoung Israel of Elkins Park (PA) \nYoung Israel of Fort Lee (NJ)\nYoung Israel of Hillcrest (NY) \nYoung Israel of Hollywood/Ft. Lauderdale (FL)\nYoung Israel of Kew Gardens Hills (NY) \nYoung Israel of New Hyde Park (NY)\nYoung Israel of Plainview (NY)\n Young Israel of Queens Valley (NY)\nYoung Israel of Southfield (MI)\n Young Israel of Stamford (CT)\nYoung Israel of West Hartford (CT)\nYoung Israel of West Hempstead (NY) \n\nOU Privacy Policy For all questions or to become a Partnering Synagogue\, please contact Rebbetzin Judi Steinig\, steinigj@ou.org \n  \n 
URL:https://www.ou.org/event/spirit-lets-talk-about-keeping-strong-together/
END:VEVENT
END:VCALENDAR