BEGIN:VCALENDAR
VERSION:2.0
PRODID:-//Orthodox Union - ECPv6.15.20//NONSGML v1.0//EN
CALSCALE:GREGORIAN
METHOD:PUBLISH
X-ORIGINAL-URL:https://www.ou.org
X-WR-CALDESC:Events for Orthodox Union
REFRESH-INTERVAL;VALUE=DURATION:PT1H
X-Robots-Tag:noindex
X-PUBLISHED-TTL:PT1H
BEGIN:VTIMEZONE
TZID:Europe/Helsinki
BEGIN:DAYLIGHT
TZOFFSETFROM:+0200
TZOFFSETTO:+0300
TZNAME:EEST
DTSTART:20220327T010000
END:DAYLIGHT
BEGIN:STANDARD
TZOFFSETFROM:+0300
TZOFFSETTO:+0200
TZNAME:EET
DTSTART:20221030T010000
END:STANDARD
BEGIN:DAYLIGHT
TZOFFSETFROM:+0200
TZOFFSETTO:+0300
TZNAME:EEST
DTSTART:20230326T010000
END:DAYLIGHT
BEGIN:STANDARD
TZOFFSETFROM:+0300
TZOFFSETTO:+0200
TZNAME:EET
DTSTART:20231029T010000
END:STANDARD
BEGIN:DAYLIGHT
TZOFFSETFROM:+0200
TZOFFSETTO:+0300
TZNAME:EEST
DTSTART:20240331T010000
END:DAYLIGHT
BEGIN:STANDARD
TZOFFSETFROM:+0300
TZOFFSETTO:+0200
TZNAME:EET
DTSTART:20241027T010000
END:STANDARD
END:VTIMEZONE
BEGIN:VTIMEZONE
TZID:America/New_York
BEGIN:DAYLIGHT
TZOFFSETFROM:-0500
TZOFFSETTO:-0400
TZNAME:EDT
DTSTART:20220313T070000
END:DAYLIGHT
BEGIN:STANDARD
TZOFFSETFROM:-0400
TZOFFSETTO:-0500
TZNAME:EST
DTSTART:20221106T060000
END:STANDARD
BEGIN:DAYLIGHT
TZOFFSETFROM:-0500
TZOFFSETTO:-0400
TZNAME:EDT
DTSTART:20230312T070000
END:DAYLIGHT
BEGIN:STANDARD
TZOFFSETFROM:-0400
TZOFFSETTO:-0500
TZNAME:EST
DTSTART:20231105T060000
END:STANDARD
BEGIN:DAYLIGHT
TZOFFSETFROM:-0500
TZOFFSETTO:-0400
TZNAME:EDT
DTSTART:20240310T070000
END:DAYLIGHT
BEGIN:STANDARD
TZOFFSETFROM:-0400
TZOFFSETTO:-0500
TZNAME:EST
DTSTART:20241103T060000
END:STANDARD
END:VTIMEZONE
BEGIN:VEVENT
DTSTART;TZID=Europe/Helsinki:20230912T093000
DTEND;TZID=Europe/Helsinki:20230912T160000
DTSTAMP:20260423T175328
CREATED:20230906T152852Z
LAST-MODIFIED:20230906T153355Z
UID:67525-1694511000-1694534400@www.ou.org
SUMMARY:Torah Yerushalayim - Israel
DESCRIPTION:
URL:https://www.ou.org/event/torah-yerushalayim/
LOCATION:Kehilat Nitzanim\, Israel
CATEGORIES:Torah
END:VEVENT
BEGIN:VEVENT
DTSTART;TZID=America/New_York:20230912T120000
DTEND;TZID=America/New_York:20230912T130000
DTSTAMP:20260423T175328
CREATED:20230830T170028Z
LAST-MODIFIED:20230830T170328Z
UID:67419-1694520000-1694523600@www.ou.org
SUMMARY:SPIRIT:   “Planning for Your Future – If Not Now\, When?”
DESCRIPTION:  \n “Planning for Your Future – If Not Now\, When?”   \nSome conversations are hard to have but are\, nonetheless\,  very important.  This presentation will help you ponder your healthcare future and enable you to empower loved ones with information they need to know about your wishes. Then\, and only then\, will they be able to speak on your behalf if you can no longer speak for yourself. \nWe are about to celebrate Rosh Hashanah 5784\, and IYH it should be a year of good health\, happiness\, and peace. May we all be sealed in the Book of Life. Yet\, the fragility of life encourages us to consider how to do better for ourselves and our families by planning what we can plan. So\, let’s take steps to get our house in order by becoming familiar with an easy-to-understand resource called the Five Wishes. \nPresented by Toby Weiss\, MS\, OD \nToby Weiss holds an MS in HRM and OD\, and a certificate in Biomedical Ethics. She is AVP of Cultural Diversity at MJHS Hospice and improves equitable access to care while embracing the needs of all who are seriously ill.  She educates on the importance of advanced care planning and earlier access to healthcare resources in alignment with a person’s lived experiences.  With a focus on Person-Centered\, Trauma-Informed care Toby has done in-depth work to support the needs of populations with a history of trauma. She was selected to serve on the national CMS Health Equity Expert panel that developed Health Equity measures for Hospice and Homecare Quality Reporting.  Toby established the MJHS “Halachic Pathway” for Orthodox Jewish patients and has become a replicable model for other cultural and faith-based communities. Her team created and rolled out a digital toolkit aimed at caring for Holocaust Survivors at the end of life\, which won the AJAS National Jewish Programming award in April 2022. \nClick here to register for the Zoom link for online participation and/or to receive the recording following the program \n  \nCORPORATE SPONSORS:   \nMEMORY MATTERS — https://renayudkowsky.com/signature-course/ \nCAPITIL REAL ESTATE — https://capitil.com/ \nMEDICARE INSURANCE SPECIALIST — https://www.65andready.com/ \nFORSPANKLEAR\, LLP — https://www.forspanklear.com/ \nWINSTON WEALTH ADVISORS — https://www.winstonwealthadvisors.com/ou-spirit \nSCHWARTZ BROTHERS JEFFER/SINAI CHAPEL/PARKSIDE MEMORIAL CHAPELS — https://www.dignitymemorial.com/funeral-homes/forest-hills-ny/schwartz-brothers-jeffer-memorial-chapels/4131 \nCITIZENS BANK — https://lo.citizensbank.com/nj/woodcliff-lake/david-siegel \n____________________________________________________________________ \nWe have created a new SPIRIT website with archives and upcoming programs! Now you can watch all of the SPIRIT presentations geared toward retirees- on subjects such as history to exercise to mental health\, all in one place!  \nCLICK HERE to enjoy past programs on-demand at your convenience!    \n\nThe information provided by the OU SPIRIT program is for informational purposes only and should not be construed as advice on any legal/medical/nutritional/mental health/ financial/halachic or other subject matter.  You should not act or refrain from acting on the basis of the information you learn during a SPIRIT program without seeking legal/medical/nutritional/mental health/financial/Rabbinic or other appropriate professional advice. \n\nPartnering Synagogues: \nAnshei Chesed Congregation\, Boynton Beach (FL)\nAnshei Emuna Congregation\, Delray Beach (FL)\nBeth David Synagogue\, West Hartford (CT) \nBialystoker Synagogue\, New York (NY)\nB’nai Israel-Ohev Zedek\, Philadelphia (PA) \nCongregation Agudath Sholom\, Stamford (CT)\nCongregation Ahavas Sholom\, Columbus (OH)\n Congregation Aitz Chaim\, West Palm Beach (FL)\nCongregation Anshe Sfard\, New Orleans (LA) \nCongregation Anshe Sfard Kehillat Torah\, Glendale (WI)\nCongregation Beth Hamedrosh\, Wynnewood (PA)\nCongregation Beth Aaron\, Teaneck (NJ)\nCongregation Beth Ora\, Montreal (QUE)\nCongregation Beth Sholom\, Providence (RI) \nCongregation Bnai Yeshurun\, Teaneck (NJ)\nCongregation Etz Chaim of Kew Gardens Hills (NY) \nCongregation Kehilath Jeshurun\, New York (NY)\nCongregation Machane Chodosh\, Forest Hills\, NY\nCongregation Ohav Zedek\, Wilkes-Barre (PA) \nCongregation Tiferet Israel\, Austin (TX)\nCongregation Torah Ohr\, Boca Raton (FL) \nCongregation Zvi Jacob\, Utica (NY)\nDarchei Noam\, Minneapolis (MN) \nEast Denver Orthodox Synagogue (EDOS)\, Denver (CO)\nFleetwood Synagogue\, Fleetwood (NY) \nJewish Center of Atlantic Beach (NY)\nKehillat New Hempstead (NY) \nKehillat Shaarei Torah of Toronto (ONT)\nKeneseth Beth Israel\, Richmond (VA) \nNer Tamid Greenspring Valley Synagogue\, Baltimore (MD)\nSuburban Orthodox Congregation Toras Chaim\, Baltimore (MD)\nSuburban Torah\, Livingston (NJ) \nUnited Orthodox Synagogues\, Houston (TX)\nYoung Israel of Bal Harbour\, Surfside (FL)\n Young Israel of Brookline (MA)\nYoung Israel of Deerfield Beach (FL) \nYoung Israel of East Brunswick (NJ)\nYoung Israel of Elkins Park (PA) \nYoung Israel of Fort Lee (NJ)\nYoung Israel of Hillcrest (NY) \nYoung Israel of Hollywood/Ft. Lauderdale (FL)\nYoung Israel of Kew Gardens Hills (NY) \nYoung Israel of New Hyde Park (NY)\nYoung Israel of Plainview (NY)\n Young Israel of Queens Valley (NY)\nYoung Israel of Southfield (MI)\n Young Israel of Stamford (CT)\nYoung Israel of West Hartford (CT)\nYoung Israel of West Hempstead (NY) \n 
URL:https://www.ou.org/event/spirit-planning-for-your-future-if-not-now-when/
END:VEVENT
END:VCALENDAR