BEGIN:VCALENDAR
VERSION:2.0
PRODID:-//Orthodox Union - ECPv6.15.20//NONSGML v1.0//EN
CALSCALE:GREGORIAN
METHOD:PUBLISH
X-ORIGINAL-URL:https://www.ou.org
X-WR-CALDESC:Events for Orthodox Union
REFRESH-INTERVAL;VALUE=DURATION:PT1H
X-Robots-Tag:noindex
X-PUBLISHED-TTL:PT1H
BEGIN:VTIMEZONE
TZID:America/New_York
BEGIN:DAYLIGHT
TZOFFSETFROM:-0500
TZOFFSETTO:-0400
TZNAME:EDT
DTSTART:20220313T070000
END:DAYLIGHT
BEGIN:STANDARD
TZOFFSETFROM:-0400
TZOFFSETTO:-0500
TZNAME:EST
DTSTART:20221106T060000
END:STANDARD
BEGIN:DAYLIGHT
TZOFFSETFROM:-0500
TZOFFSETTO:-0400
TZNAME:EDT
DTSTART:20230312T070000
END:DAYLIGHT
BEGIN:STANDARD
TZOFFSETFROM:-0400
TZOFFSETTO:-0500
TZNAME:EST
DTSTART:20231105T060000
END:STANDARD
BEGIN:DAYLIGHT
TZOFFSETFROM:-0500
TZOFFSETTO:-0400
TZNAME:EDT
DTSTART:20240310T070000
END:DAYLIGHT
BEGIN:STANDARD
TZOFFSETFROM:-0400
TZOFFSETTO:-0500
TZNAME:EST
DTSTART:20241103T060000
END:STANDARD
END:VTIMEZONE
BEGIN:VEVENT
DTSTART;TZID=America/New_York:20230131T110000
DTEND;TZID=America/New_York:20230131T120000
DTSTAMP:20260424T032109
CREATED:20230125T190345Z
LAST-MODIFIED:20230125T195022Z
UID:65124-1675162800-1675166400@www.ou.org
SUMMARY:SPIRIT: Insights and Anecdotes from a Frum Funeral Director
DESCRIPTION:Insights and Anecdotes from a Frum Funeral Director  \nNo one wants to talk about death.  Jennifer Martin will share entertaining (yes! entertaining) stories from here career as well as provide insight on how to be properly prepared so that a difficult time can be made easier for surviving family members. \nJennifer Martin has been a Funeral Director since 1994 working in Queens\, NY where she lives with her family.  Jennifer has an excellent reputation for the work she does both at the Funeral Home as well as within the Community.  She is on the Board of Directors of The Kew Gardens Hills Civic Association\, Queens Community Board #8\, Queens Jewish Community Council\, The Friends of the Queens Library and  a member of the Vaad of Queens Chevra Kaddisha.  Jennifer enjoys speaking to groups of all ages about everything from Funeral Customs to preparing funeral arrangements in advance.  \nCLICK HERE to register \n___________________________________________________________ \nWe have created a new SPIRIT website with archives and upcoming programs! Now you can watch all of the SPIRIT presentations geared toward retirees- on subjects such as history to exercise to mental health\, all in one place! \nCLICK HERE to enjoy past programs on-demand at your convenience! \nThe information provided by the OU SPIRIT program is for informational purposes only and should not be construed as advice on any legal/medical/nutritional/mental health/ financial/halachic or other subject matter.  You should not act or refrain from acting on the basis of the information you learn during a SPIRIT program without seeking legal/medical/nutritional/mental health/financial/Rabbinic or other appropriate professional advice. \nPartnering Synagogues:\nAnshei Chesed Congregation\, Boynton Beach (FL)\nAnshei Emuna Congregation\, Delray Beach (FL)\nBeth David Synagogue\, West Hartford (CT)\nBialystoker Synagogue\, New York (NY)\nB’nai Israel-Ohev Zedek\, Philadelphia (PA)\nCongregation Agudath Sholom\, Stamford (CT)\nCongregation Ahavas Sholom\, Columbus (OH)\nCongregation Aitz Chaim\, West Palm Beach (FL)\nCongregation Anshe Sfard\, New Orleans (LA)\nCongregation Anshe Sfard Kehillat Torah\, Glendale (WI)\nCongregation Beth Hamedrosh\, Wynnewood (PA)\nCongregation Beth Aaron\, Teaneck (NJ)\nCongregation Beth Ora\, Montreal (QUE)\nCongregation Beth Sholom\, Providence (RI)\nCongregation Bnai Yeshurun\, Teaneck (NJ)\nCongregation Etz Chaim of Kew Gardens Hills (NY)\nCongregation Kehilath Jeshurun\, New York (NY)\nCongregation Machane Chodosh\, Forest Hills\, NY\nCongregation Ohav Zedek\, Wilkes-Barre (PA)\nCongregation Tiferet Israel\, Austin (TX)\nCongregation Torah Ohr\, Boca Raton (FL)\nCongregation Zvi Jacob\, Utica (NY)\nDarchei Noam\, Minneapolis (MN)\nEast Denver Orthodox Synagogue (EDOS)\, Denver (CO)\nFleetwood Synagogue\, Fleetwood (NY)\nJewish Center of Atlantic Beach (NY)\nKehillat New Hempstead (NY)\nKehillat Shaarei Torah of Toronto (ONT)\nKeneseth Beth Israel\, Richmond (VA)\nNer Tamid Greenspring Valley Synagogue\, Baltimore (MD)\nSuburban Orthodox Congregation Toras Chaim\, Baltimore (MD)\nSuburban Torah\, Livingston (NJ)\nUnited Orthodox Synagogues\, Houston (TX)\nYoung Israel of Bal Harbour\, Surfside (FL)\nYoung Israel of Brookline (MA)\nYoung Israel of Deerfield Beach (FL)\nYoung Israel of East Brunswick (NJ)\nYoung Israel of Elkins Park (PA)\nYoung Israel of Fort Lee (NJ)\nYoung Israel of Hillcrest (NY)\nYoung Israel of Hollywood/Ft. Lauderdale (FL)\nYoung Israel of Kew Gardens Hills (NY)\nYoung Israel of New Hyde Park (NY)\nYoung Israel of Plainview (NY)\nYoung Israel of Queens Valley (NY)\nYoung Israel of Southfield (MI)\nYoung Israel of Stamford (CT)\nYoung Israel of West Hartford (CT)\nYoung Israel of West Hempstead (NY) \nOU Privacy Policy For all questions or to become a Partnering Synagogue\, please contact Rebbetzin Judi Steinig\, steinigj@ou.org
URL:https://www.ou.org/event/spirit-insights-and-anecdotes/
END:VEVENT
END:VCALENDAR