BEGIN:VCALENDAR
VERSION:2.0
PRODID:-//Orthodox Union - ECPv6.15.20//NONSGML v1.0//EN
CALSCALE:GREGORIAN
METHOD:PUBLISH
X-ORIGINAL-URL:https://www.ou.org
X-WR-CALDESC:Events for Orthodox Union
REFRESH-INTERVAL;VALUE=DURATION:PT1H
X-Robots-Tag:noindex
X-PUBLISHED-TTL:PT1H
BEGIN:VTIMEZONE
TZID:America/New_York
BEGIN:DAYLIGHT
TZOFFSETFROM:-0500
TZOFFSETTO:-0400
TZNAME:EDT
DTSTART:20210314T070000
END:DAYLIGHT
BEGIN:STANDARD
TZOFFSETFROM:-0400
TZOFFSETTO:-0500
TZNAME:EST
DTSTART:20211107T060000
END:STANDARD
BEGIN:DAYLIGHT
TZOFFSETFROM:-0500
TZOFFSETTO:-0400
TZNAME:EDT
DTSTART:20220313T070000
END:DAYLIGHT
BEGIN:STANDARD
TZOFFSETFROM:-0400
TZOFFSETTO:-0500
TZNAME:EST
DTSTART:20221106T060000
END:STANDARD
BEGIN:DAYLIGHT
TZOFFSETFROM:-0500
TZOFFSETTO:-0400
TZNAME:EDT
DTSTART:20230312T070000
END:DAYLIGHT
BEGIN:STANDARD
TZOFFSETFROM:-0400
TZOFFSETTO:-0500
TZNAME:EST
DTSTART:20231105T060000
END:STANDARD
END:VTIMEZONE
BEGIN:VEVENT
DTSTART;TZID=America/New_York:20221027T110000
DTEND;TZID=America/New_York:20221027T120000
DTSTAMP:20260424T095203
CREATED:20221012T170549Z
LAST-MODIFIED:20221013T144109Z
UID:64194-1666868400-1666872000@www.ou.org
SUMMARY:SPIRIT:  Let's Talk!
DESCRIPTION:Let’s Talk — An Interactive Program \nPlease join us for a new addition to the SPIRIT program.  “Let’s Talk” will give all participants the opportunity to meet in small breakout rooms with other SPIRIT participants to socialize in a virtual setting. \nCLICK HERE TO REGISTER \nPlease note:  \n\nLet’s Talk sessions will not be recorded.\nThe Date/Time for this program may alternate so that people from various time zones are able to join.\nLET’S TALK is a social component of the Orthodox Union’s SPIRIT (The Stimulating Program Initiative for Retirees That Inspires Thought).  Those who choose to participate in a LET’S TALK session will be assigned to a breakout room by the Host.  Breakout Room assignments will be random and will allow for audio/video/chat interaction among participants.  The Orthodox Union will not provide contact information following the program for any participants.  Participants may provide their own contact information at their own discretion.  The Orthodox Union assumes no responsibility and disclaims all liability for any comments made during any LET’S TALK session or any follow-up interactions. \n\n 
URL:https://www.ou.org/event/spirit-lets-talk/
END:VEVENT
END:VCALENDAR