BEGIN:VCALENDAR
VERSION:2.0
PRODID:-//Orthodox Union - ECPv6.15.20//NONSGML v1.0//EN
CALSCALE:GREGORIAN
METHOD:PUBLISH
X-ORIGINAL-URL:https://www.ou.org
X-WR-CALDESC:Events for Orthodox Union
REFRESH-INTERVAL;VALUE=DURATION:PT1H
X-Robots-Tag:noindex
X-PUBLISHED-TTL:PT1H
BEGIN:VTIMEZONE
TZID:America/New_York
BEGIN:DAYLIGHT
TZOFFSETFROM:-0500
TZOFFSETTO:-0400
TZNAME:EDT
DTSTART:20210314T070000
END:DAYLIGHT
BEGIN:STANDARD
TZOFFSETFROM:-0400
TZOFFSETTO:-0500
TZNAME:EST
DTSTART:20211107T060000
END:STANDARD
BEGIN:DAYLIGHT
TZOFFSETFROM:-0500
TZOFFSETTO:-0400
TZNAME:EDT
DTSTART:20220313T070000
END:DAYLIGHT
BEGIN:STANDARD
TZOFFSETFROM:-0400
TZOFFSETTO:-0500
TZNAME:EST
DTSTART:20221106T060000
END:STANDARD
BEGIN:DAYLIGHT
TZOFFSETFROM:-0500
TZOFFSETTO:-0400
TZNAME:EDT
DTSTART:20230312T070000
END:DAYLIGHT
BEGIN:STANDARD
TZOFFSETFROM:-0400
TZOFFSETTO:-0500
TZNAME:EST
DTSTART:20231105T060000
END:STANDARD
END:VTIMEZONE
BEGIN:VEVENT
DTSTART;TZID=America/New_York:20221026T203000
DTEND;TZID=America/New_York:20221026T213000
DTSTAMP:20260424T095201
CREATED:20221019T192650Z
LAST-MODIFIED:20221019T193309Z
UID:64212-1666816200-1666819800@www.ou.org
SUMMARY:Home Buyer Basics 101:  Real Estate
DESCRIPTION:HOME BUYER BASICS 101:  Real Estate \n  \n\nWorking with an agent\nUnderstanding Wants vs Needs\nLocation Location Location\nUnderstanding Value in the current market\nOffer Process\nContingencies\nClosing\n\nPresented by: Marc Stein\, Broker Associate @ eXp Realty\, CEO Links Residential Realtor \n Marc Stein is the CEO of Links Residential brokered by eXp Realty with agents across the country and in Israel.  With his motto of “Do Good For Others” he has been able to personally close over 1500 transactions.  He built his business by using his network to help others make sure they have what they need to succeed. \nCLICK HERE to Register \n  \nThe information provided by this program is for informational purposes only and should not be construed as advice on any legal/educational/ financial/halachic or other subject matter. You should not act or refrain from acting on the basis of the information you learn through any OU Community website without doing your own due diligence or seeking legal/medical/educational /financial/Rabbinic or other appropriate professional advice.  The OU Department of Community Projects & Partnership and the Orthodox Union give no warranty or guarantee and accepts no responsibility or liability for the accuracy or the completeness of any of the information provided.
URL:https://www.ou.org/event/home-buyer-basics-101-real-estate/
END:VEVENT
END:VCALENDAR